BEGIN:VCALENDAR
VERSION:2.0
PRODID:-//L&#039;épée à 2 Nains - ECPv6.15.20//NONSGML v1.0//EN
CALSCALE:GREGORIAN
METHOD:PUBLISH
X-WR-CALNAME:L&#039;épée à 2 Nains
X-ORIGINAL-URL:https://2nains.ch
X-WR-CALDESC:Évènements pour L&#039;épée à 2 Nains
REFRESH-INTERVAL;VALUE=DURATION:PT1H
X-Robots-Tag:noindex
X-PUBLISHED-TTL:PT1H
BEGIN:VTIMEZONE
TZID:Europe/Paris
BEGIN:DAYLIGHT
TZOFFSETFROM:+0100
TZOFFSETTO:+0200
TZNAME:CEST
DTSTART:20250330T010000
END:DAYLIGHT
BEGIN:STANDARD
TZOFFSETFROM:+0200
TZOFFSETTO:+0100
TZNAME:CET
DTSTART:20251026T010000
END:STANDARD
BEGIN:DAYLIGHT
TZOFFSETFROM:+0100
TZOFFSETTO:+0200
TZNAME:CEST
DTSTART:20260329T010000
END:DAYLIGHT
BEGIN:STANDARD
TZOFFSETFROM:+0200
TZOFFSETTO:+0100
TZNAME:CET
DTSTART:20261025T010000
END:STANDARD
BEGIN:DAYLIGHT
TZOFFSETFROM:+0100
TZOFFSETTO:+0200
TZNAME:CEST
DTSTART:20270328T010000
END:DAYLIGHT
BEGIN:STANDARD
TZOFFSETFROM:+0200
TZOFFSETTO:+0100
TZNAME:CET
DTSTART:20271031T010000
END:STANDARD
END:VTIMEZONE
BEGIN:VEVENT
DTSTART;TZID=Europe/Paris:20260422T190000
DTEND;TZID=Europe/Paris:20260422T233000
DTSTAMP:20260422T141936
CREATED:20260330T142139Z
LAST-MODIFIED:20260330T142658Z
UID:151399-1776884400-1776900600@2nains.ch
SUMMARY:AP Strixhaven à Esclarmonde – Troll à 2 Têtes
DESCRIPTION:Viens participer à l’avant-première de l’édition « Secrets de Strixhaven »! \nMode de jeu: scellé (6 boosters fournis) – 2 vs 2 \nProgramme de la soirée: \n– un scellé dans une ambiance sympa \n– essaie d’être sur place 15 minutes en avance \n– des boosters et d’autres prix distribués en pricepool \nAttention: Paiement uniquement par Twint ou Cash acceptés ! \nEspace Esclarmonde Avenue Soret 39 – 1203 Genève Prix: 35 frs par personne!  \nCode Compagnon: EZ6NWM5
URL:https://2nains.ch/event/ap-strixhaven-a-esclarmonde-troll-a-2-tetes/
LOCATION:Espace Esclarmonde\, Avenue Soret 39\, Genève\, 1203\, Switzerland
CATEGORIES:Magic - Hors 2 Nains
ATTACH;FMTTYPE=image/webp:https://2nains.ch/wp-content/uploads/2026/01/geneva_school_of_magic.webp
END:VEVENT
END:VCALENDAR