BEGIN:VCALENDAR
VERSION:2.0
PRODID:-//L&#039;épée à 2 Nains - ECPv6.15.20//NONSGML v1.0//EN
CALSCALE:GREGORIAN
METHOD:PUBLISH
X-WR-CALNAME:L&#039;épée à 2 Nains
X-ORIGINAL-URL:https://2nains.ch
X-WR-CALDESC:Évènements pour L&#039;épée à 2 Nains
REFRESH-INTERVAL;VALUE=DURATION:PT1H
X-Robots-Tag:noindex
X-PUBLISHED-TTL:PT1H
BEGIN:VTIMEZONE
TZID:Europe/Paris
BEGIN:DAYLIGHT
TZOFFSETFROM:+0100
TZOFFSETTO:+0200
TZNAME:CEST
DTSTART:20250330T010000
END:DAYLIGHT
BEGIN:STANDARD
TZOFFSETFROM:+0200
TZOFFSETTO:+0100
TZNAME:CET
DTSTART:20251026T010000
END:STANDARD
BEGIN:DAYLIGHT
TZOFFSETFROM:+0100
TZOFFSETTO:+0200
TZNAME:CEST
DTSTART:20260329T010000
END:DAYLIGHT
BEGIN:STANDARD
TZOFFSETFROM:+0200
TZOFFSETTO:+0100
TZNAME:CET
DTSTART:20261025T010000
END:STANDARD
BEGIN:DAYLIGHT
TZOFFSETFROM:+0100
TZOFFSETTO:+0200
TZNAME:CEST
DTSTART:20270328T010000
END:DAYLIGHT
BEGIN:STANDARD
TZOFFSETFROM:+0200
TZOFFSETTO:+0100
TZNAME:CET
DTSTART:20271031T010000
END:STANDARD
END:VTIMEZONE
BEGIN:VEVENT
DTSTART;TZID=Europe/Paris:20260423T160000
DTEND;TZID=Europe/Paris:20260423T193000
DTSTAMP:20260423T020436
CREATED:20260410T154044Z
LAST-MODIFIED:20260422T122220Z
UID:152462-1776960000-1776972600@2nains.ch
SUMMARY:Riftbound - Nexus Night Construit
DESCRIPTION:Nexus Night Construit aux 2 Nains \n  \nDébut des rondes à 16h15 ! \n  \nFormat : 1 contre 1 construit\, 1 manche gagnante ! 30 min \nNiveau de jeu organisé : Convivial – Proxys autorisés \n  \nLien Carde.io : https://locator.riftbound.uvsgames.com/events/495644 \n 
URL:https://2nains.ch/event/riftbound-nexus-night-construit-2/
LOCATION:L’épée à 2 Nains\, rue des Corps-Saints 8\, Genève\, 1201
CATEGORIES:Riftbound
ATTACH;FMTTYPE=image/webp:https://2nains.ch/wp-content/uploads/2025/12/Riftbound_logo.webp
ORGANIZER;CN="L'%C3%A9p%C3%A9e %C3%A0 2 Nains":MAILTO:info@2nains.ch
END:VEVENT
BEGIN:VEVENT
DTSTART;TZID=Europe/Paris:20260423T190000
DTEND;TZID=Europe/Paris:20260423T220000
DTSTAMP:20260423T020436
CREATED:20260326T110156Z
LAST-MODIFIED:20260422T170052Z
UID:150919-1776970800-1776981600@2nains.ch
SUMMARY:Soirée Jeux & Dégustation
DESCRIPTION:Nous avons le plaisir de vous inviter à une soirée conviviale mêlant jeux de société et dégustation de vin\, organisée en collaboration avec la Cave des Poètes. \nLa Cave des Poètes vous fera découvrir une sélection de quatre vins soigneusement choisis\, tandis que L’Épée à 2 Nains vous proposera une initiation ludique à une variété de jeux de société. \n \nLa dégustation débutera à 19h directement au magasin L’Épée à 2 Nains\, situé à la rue des Corps-Saints 8\, 1201 Genève. \nL’inscription est obligatoire via notre site. \nNous nous réjouissons de partager ce moment avec vous !
URL:https://2nains.ch/event/soiree-jeux-degustation-speciale-abo/
LOCATION:L’épée à 2 Nains\, rue des Corps-Saints 8\, Genève\, 1201
CATEGORIES:2 Nains
ATTACH;FMTTYPE=image/webp:https://2nains.ch/wp-content/uploads/2026/01/2N-des2.webp
ORGANIZER;CN="L'%C3%A9p%C3%A9e %C3%A0 2 Nains":MAILTO:info@2nains.ch
END:VEVENT
END:VCALENDAR