BEGIN:VCALENDAR
VERSION:2.0
PRODID:-//L&#039;épée à 2 Nains - ECPv6.15.20//NONSGML v1.0//EN
CALSCALE:GREGORIAN
METHOD:PUBLISH
X-ORIGINAL-URL:https://2nains.ch
X-WR-CALDESC:Évènements pour L&#039;épée à 2 Nains
REFRESH-INTERVAL;VALUE=DURATION:PT1H
X-Robots-Tag:noindex
X-PUBLISHED-TTL:PT1H
BEGIN:VTIMEZONE
TZID:Europe/Paris
BEGIN:DAYLIGHT
TZOFFSETFROM:+0100
TZOFFSETTO:+0200
TZNAME:CEST
DTSTART:20240331T010000
END:DAYLIGHT
BEGIN:STANDARD
TZOFFSETFROM:+0200
TZOFFSETTO:+0100
TZNAME:CET
DTSTART:20241027T010000
END:STANDARD
BEGIN:DAYLIGHT
TZOFFSETFROM:+0100
TZOFFSETTO:+0200
TZNAME:CEST
DTSTART:20250330T010000
END:DAYLIGHT
BEGIN:STANDARD
TZOFFSETFROM:+0200
TZOFFSETTO:+0100
TZNAME:CET
DTSTART:20251026T010000
END:STANDARD
BEGIN:DAYLIGHT
TZOFFSETFROM:+0100
TZOFFSETTO:+0200
TZNAME:CEST
DTSTART:20260329T010000
END:DAYLIGHT
BEGIN:STANDARD
TZOFFSETFROM:+0200
TZOFFSETTO:+0100
TZNAME:CET
DTSTART:20261025T010000
END:STANDARD
END:VTIMEZONE
BEGIN:VEVENT
DTSTART;TZID=Europe/Paris:20250426T130000
DTEND;TZID=Europe/Paris:20250426T150000
DTSTAMP:20260423T090455
CREATED:20250315T065700Z
LAST-MODIFIED:20250315T065910Z
UID:116316-1745672400-1745679600@2nains.ch
SUMMARY:Initiations Magic the Gathering
DESCRIPTION:Participez à ce moment de découverte du jeu Magic the Gathering! \nIl n’y a rien besoin de prendre avec vous\, ni de connaître déjà le jeu! \nVous savez jouer et avez des amis qui aimeraient commencer? Amenez-les! \nTout est évidemment gratuit et un paquet de bienvenue vous sera offert! \n 
URL:https://2nains.ch/event/initiations-magic-the-gathering-4/
LOCATION:L’épée à 2 Nains\, rue des Corps-Saints 8\, Genève\, 1201
CATEGORIES:Magic
ATTACH;FMTTYPE=image/png:https://2nains.ch/wp-content/uploads/2022/10/logo-magic2_1886220380.png
ORGANIZER;CN="L'%C3%A9p%C3%A9e %C3%A0 2 Nains":MAILTO:info@2nains.ch
END:VEVENT
BEGIN:VEVENT
DTSTART;TZID=Europe/Paris:20250430T130000
DTEND;TZID=Europe/Paris:20250430T150000
DTSTAMP:20260423T090455
CREATED:20250315T065935Z
LAST-MODIFIED:20250315T070047Z
UID:116319-1746018000-1746025200@2nains.ch
SUMMARY:Initiations Magic the Gathering
DESCRIPTION:Participez à ce moment de découverte du jeu Magic the Gathering! \nIl n’y a rien besoin de prendre avec vous\, ni de connaître déjà le jeu! \nVous savez jouer et avez des amis qui aimeraient commencer? Amenez-les! \nTout est évidemment gratuit et un paquet de bienvenue vous sera offert! \n 
URL:https://2nains.ch/event/initiations-magic-the-gathering-5/
LOCATION:L’épée à 2 Nains\, rue des Corps-Saints 8\, Genève\, 1201
CATEGORIES:Magic
ATTACH;FMTTYPE=image/png:https://2nains.ch/wp-content/uploads/2022/10/logo-magic2_1886220380.png
ORGANIZER;CN="L'%C3%A9p%C3%A9e %C3%A0 2 Nains":MAILTO:info@2nains.ch
END:VEVENT
END:VCALENDAR