BEGIN:VCALENDAR
VERSION:2.0
PRODID:-//L&#039;épée à 2 Nains - ECPv6.15.20//NONSGML v1.0//EN
CALSCALE:GREGORIAN
METHOD:PUBLISH
X-ORIGINAL-URL:https://2nains.ch
X-WR-CALDESC:Évènements pour L&#039;épée à 2 Nains
REFRESH-INTERVAL;VALUE=DURATION:PT1H
X-Robots-Tag:noindex
X-PUBLISHED-TTL:PT1H
BEGIN:VTIMEZONE
TZID:Europe/Paris
BEGIN:DAYLIGHT
TZOFFSETFROM:+0100
TZOFFSETTO:+0200
TZNAME:CEST
DTSTART:20240331T010000
END:DAYLIGHT
BEGIN:STANDARD
TZOFFSETFROM:+0200
TZOFFSETTO:+0100
TZNAME:CET
DTSTART:20241027T010000
END:STANDARD
BEGIN:DAYLIGHT
TZOFFSETFROM:+0100
TZOFFSETTO:+0200
TZNAME:CEST
DTSTART:20250330T010000
END:DAYLIGHT
BEGIN:STANDARD
TZOFFSETFROM:+0200
TZOFFSETTO:+0100
TZNAME:CET
DTSTART:20251026T010000
END:STANDARD
BEGIN:DAYLIGHT
TZOFFSETFROM:+0100
TZOFFSETTO:+0200
TZNAME:CEST
DTSTART:20260329T010000
END:DAYLIGHT
BEGIN:STANDARD
TZOFFSETFROM:+0200
TZOFFSETTO:+0100
TZNAME:CET
DTSTART:20261025T010000
END:STANDARD
END:VTIMEZONE
BEGIN:VEVENT
DTSTART;TZID=Europe/Paris:20250704T120000
DTEND;TZID=Europe/Paris:20250704T183000
DTSTAMP:20260423T050056
CREATED:20250704T090947Z
LAST-MODIFIED:20250704T091251Z
UID:124754-1751630400-1751653800@2nains.ch
SUMMARY:Nouvelle Ligue - Chaos
DESCRIPTION:C’est le début de la nouvelle ligue!!  \nC’est parti pour un mois de folie et de combats épiques\, et pour cette nouvelle ligue c’est avec n’importe quelle extension que ça va se passer. \nPour rappel\, ça se passe à n’importe quel moment à la boutique: venez et joignez-vous à nous! \nLots: \n\nPour le gagnant: une carte promo spéciale\n\n\nDes points 2Nains: 1er = 75pts\, 2e = 50pts\, 3e = 25pts\, tous ceux qui ont 10 games = 10pts\n\n\nPour tous ceux qui ont 10 games: 1 play booster + 1 booster promo + 1 carte promo\n\n+ d’autres lots suivant le nombre de participants!
URL:https://2nains.ch/event/nouvelle-ligue-chaos/
LOCATION:L’épée à 2 Nains\, rue des Corps-Saints 8\, Genève\, 1201
CATEGORIES:Magic
ATTACH;FMTTYPE=image/png:https://2nains.ch/wp-content/uploads/2023/01/logo-magic2_1886220380-1.png
ORGANIZER;CN="L'%C3%A9p%C3%A9e %C3%A0 2 Nains":MAILTO:info@2nains.ch
END:VEVENT
BEGIN:VEVENT
DTSTART;TZID=Europe/Paris:20250710T183000
DTEND;TZID=Europe/Paris:20250710T233000
DTSTAMP:20260423T050056
CREATED:20250622T091035Z
LAST-MODIFIED:20250622T091831Z
UID:123999-1752172200-1752190200@2nains.ch
SUMMARY:Commander Multi
DESCRIPTION:Participez au prochain tournois commander des 2 Nains! \nProgramme de la soirée: un tournoi commander à 5.- dans une ambiance détendue \nLots: \n\n10 points de saison pour chaque participant\n\n\nBooster promo  pour top 50%\n\n\nBoosters promo Premium\, Points de saison\, Accessoires et autres lots pour le top\, suivant le nombre de participants.\n\nN’oubliez pas votre deck au format Commander!! \nLe tournois se fera en multi à 4 joueurs par match\, en 3 rondes. Les détails seront données sur place. \nAttention\, voilà la banlist en cours: https://magic.wizards.com/fr/banned-restricted-list \nLes proxys sont autorisés \nRègles spéciales:\n \nCe tournois fait partie du classement de la saison! \nInscrivez vous ci-dessous dès aujourd’hui!
URL:https://2nains.ch/event/tournois-commander-multi/
LOCATION:L’épée à 2 Nains\, rue des Corps-Saints 8\, Genève\, 1201
CATEGORIES:Magic
ATTACH;FMTTYPE=image/png:https://2nains.ch/wp-content/uploads/2022/10/logo-magic2_1886220380.png
ORGANIZER;CN="L'%C3%A9p%C3%A9e %C3%A0 2 Nains":MAILTO:info@2nains.ch
END:VEVENT
BEGIN:VEVENT
DTSTART;TZID=Europe/Paris:20250712T130000
DTEND;TZID=Europe/Paris:20250712T130000
DTSTAMP:20260423T050056
CREATED:20250625T215349Z
LAST-MODIFIED:20250706T110742Z
UID:124216-1752325200-1752325200@2nains.ch
SUMMARY:Tournois Pioneer
DESCRIPTION:Participez au prochain tournois pioneer des 2 Nains!Programme de la journée: un tournoi modern à 10.- par personne dans une ambiance détendue \nLots: \n\n\n1 Booster + 10 points de saison pour chaque participant\n\n\nBooster promo  pour top 50%\n\n\nBoosters promo Premium\, Points de saison\, Accessoires et autres lots pour le top\, suivant le nombre de participants.\n\nN’oubliez pas votre deck au format pioneer!! \nLes proxys sont autorisés \nCe tournois fait partie du classement de la saison! \nInscrivez-vous ci-dessous dès aujourd’hui!
URL:https://2nains.ch/event/tournois-pioneer/
LOCATION:L’épée à 2 Nains\, rue des Corps-Saints 8\, Genève\, 1201
CATEGORIES:Magic
ATTACH;FMTTYPE=image/png:https://2nains.ch/wp-content/uploads/2023/01/logo-magic2_1886220380-1.png
ORGANIZER;CN="L'%C3%A9p%C3%A9e %C3%A0 2 Nains":MAILTO:info@2nains.ch
END:VEVENT
BEGIN:VEVENT
DTSTART;TZID=Europe/Paris:20250719T120000
DTEND;TZID=Europe/Paris:20250719T170000
DTSTAMP:20260423T050056
CREATED:20250622T092557Z
LAST-MODIFIED:20250622T092905Z
UID:124006-1752926400-1752944400@2nains.ch
SUMMARY:Duel Commander
DESCRIPTION:Participez au prochain tournois commander des 2 Nains! \nProgramme de la journée: un tournoi commander 1V1 \nLots: \n\n1 Booster + 10 points de saison pour chaque participant\n\n\nBooster promo  pour top 50%\n\n\nBoosters promo Premium\, Accessoires et autres lots pour le top\, suivant le nombre de participants.\n\nProxys autorisés \nLe tournois se fera en 1v1 (duel commander) à 20PV en 2 manches gagnantes avec une limite de temps de 60min par ronde. Pour plus de détails et pour la banlist\, merci de vous référer au site de référence: http://www.duelcommander.com/fr/ \nCe tournois fait partie du classement de la saison! \nInscrivez-vous ci-dessous dès aujourd’hui!
URL:https://2nains.ch/event/duel-commander-5/
LOCATION:L’épée à 2 Nains\, rue des Corps-Saints 8\, Genève\, 1201
CATEGORIES:Magic
ATTACH;FMTTYPE=image/png:https://2nains.ch/wp-content/uploads/2023/01/logo-magic2_1886220380-1.png
ORGANIZER;CN="L'%C3%A9p%C3%A9e %C3%A0 2 Nains":MAILTO:info@2nains.ch
END:VEVENT
BEGIN:VEVENT
DTSTART;TZID=Europe/Paris:20250725T183000
DTEND;TZID=Europe/Paris:20250725T235900
DTSTAMP:20260423T050056
CREATED:20250625T220342Z
LAST-MODIFIED:20250625T220522Z
UID:124219-1753468200-1753487940@2nains.ch
SUMMARY:Avant-première - Edge of Eternity
DESCRIPTION:Viens participer à l’avant-première de l’édition « Edge of Eternity » organisée à l’Épée à 2 Nains! \nMode de jeu: scellé (6 boosters fournis) – solo \nPrix d’inscription: 40.-  \nProgramme de la soirée:\n– un scellé dans une ambiance sympa\n– début de la construction du deck à 18:30\, essaie d’être sur place 15 minutes en avance\n– des boosters et d’autres prix distribués en pricepool
URL:https://2nains.ch/event/avant-premiere-edge-of-eternity/
LOCATION:L’épée à 2 Nains\, rue des Corps-Saints 8\, Genève\, 1201
CATEGORIES:Magic
ATTACH;FMTTYPE=image/png:https://2nains.ch/wp-content/uploads/2023/01/logo-magic2_1886220380-1.png
ORGANIZER;CN="L'%C3%A9p%C3%A9e %C3%A0 2 Nains":MAILTO:info@2nains.ch
END:VEVENT
BEGIN:VEVENT
DTSTART;TZID=Europe/Paris:20250726T180000
DTEND;TZID=Europe/Paris:20250726T235900
DTSTAMP:20260423T050056
CREATED:20250625T220445Z
LAST-MODIFIED:20250625T220557Z
UID:124221-1753552800-1753574340@2nains.ch
SUMMARY:Avant-première - Edge of Eternity - Troll
DESCRIPTION:Viens participer à l’avant-première de l’édition « Edge of Eternity » organisée à l’Épée à 2 Nains! \nMode de jeu: scellé (6 boosters fournis) – troll à 2 têtes (2V2) \nPrix d’inscription: 40.- par joueur \nProgramme de la soirée:\n– un scellé dans une ambiance sympa\n– début de la construction du deck à 18:00\, essaie d’être sur place 15 minutes en avance\n– des boosters et d’autres prix distribués en pricepool\n  
URL:https://2nains.ch/event/avant-premiere-edge-of-eternity-troll/
LOCATION:L’épée à 2 Nains\, rue des Corps-Saints 8\, Genève\, 1201
CATEGORIES:Magic
ATTACH;FMTTYPE=image/png:https://2nains.ch/wp-content/uploads/2023/01/logo-magic2_1886220380-1.png
ORGANIZER;CN="L'%C3%A9p%C3%A9e %C3%A0 2 Nains":MAILTO:info@2nains.ch
END:VEVENT
END:VCALENDAR