BEGIN:VCALENDAR
VERSION:2.0
PRODID:-//L&#039;épée à 2 Nains - ECPv6.15.20//NONSGML v1.0//EN
CALSCALE:GREGORIAN
METHOD:PUBLISH
X-WR-CALNAME:L&#039;épée à 2 Nains
X-ORIGINAL-URL:https://2nains.ch
X-WR-CALDESC:Évènements pour L&#039;épée à 2 Nains
REFRESH-INTERVAL;VALUE=DURATION:PT1H
X-Robots-Tag:noindex
X-PUBLISHED-TTL:PT1H
BEGIN:VTIMEZONE
TZID:Europe/Paris
BEGIN:DAYLIGHT
TZOFFSETFROM:+0100
TZOFFSETTO:+0200
TZNAME:CEST
DTSTART:20240331T010000
END:DAYLIGHT
BEGIN:STANDARD
TZOFFSETFROM:+0200
TZOFFSETTO:+0100
TZNAME:CET
DTSTART:20241027T010000
END:STANDARD
BEGIN:DAYLIGHT
TZOFFSETFROM:+0100
TZOFFSETTO:+0200
TZNAME:CEST
DTSTART:20250330T010000
END:DAYLIGHT
BEGIN:STANDARD
TZOFFSETFROM:+0200
TZOFFSETTO:+0100
TZNAME:CET
DTSTART:20251026T010000
END:STANDARD
BEGIN:DAYLIGHT
TZOFFSETFROM:+0100
TZOFFSETTO:+0200
TZNAME:CEST
DTSTART:20260329T010000
END:DAYLIGHT
BEGIN:STANDARD
TZOFFSETFROM:+0200
TZOFFSETTO:+0100
TZNAME:CET
DTSTART:20261025T010000
END:STANDARD
END:VTIMEZONE
BEGIN:VEVENT
DTSTART;TZID=Europe/Paris:20250904T190000
DTEND;TZID=Europe/Paris:20250904T233000
DTSTAMP:20260423T020722
CREATED:20250724T163838Z
LAST-MODIFIED:20250829T151510Z
UID:126384-1757012400-1757028600@2nains.ch
SUMMARY:Commander Multi Spécial Chocobo !
DESCRIPTION:Participez au prochain tournois commander des 2 Nains! \nUn événement spécial en format Commander avec des règles uniques inspirées de Final Fantasy ! \nCe mode de jeu mélange l’univers de Magic et celui de Final Fantasy\, pour une partie épique pleine de quêtes\, de récompenses et d’héroïsme ! \n \nRègles spéciales \nPendant la partie\, vous avez la capacité suivante : – (2) : Si vous ne contrôlez pas de jeton Héros\, créez un jeton de créature Héros 1/1 incolore.(Activez uniquement en rituel et seulement une fois par tour.)👉 Donnez un nom à votre Héros ! \nQuêtes \nÀ la fin de votre tour\, si vous contrôlez un Héros\, vous pouvez compléter la prochaine quête non terminée et réclamer une récompense. \nQuête 1 – Combat Tuto ! : Un adversaire a subi des blessures de combat ce tour-ci. \nQuête 2 – Apprend de nouveaux sorts  ! : Vous avez lancé 2 sorts ou plus ce tour-ci. \nQuête 3 – Recrute de nouveaux compagnons  ! : Vous contrôlez 4 créatures ou plus. \nQuête 4 – Explore le monde ! : Vous contrôlez 6 terrains ou plus. \nQuête 5 – Bat le Boss Final ! : Votre Héros inflige des blessures de combat à un joueur. \nSi vous terminez les 5 quêtes\, vous gagnez la partie ! \nQuand vous complétez une quête\, lancez un dé à 6 faces pour déterminer votre récompense : \n1 : Gil → Créez un jeton Trésor. \n2 : Légumes de Gysahl→ Créez un jeton Nourriture. \n3 : Point d’XP → Mettez un marqueur +1/+1 sur une créature que vous contrôlez. \n4 : Coup d’oeil → Regardez les 2 cartes du dessus de votre bibliothèque (Scry 2). \n5 : Objet Clef → Piochez une carte. \n6 : Plume de Phoenix → Renvoyez une carte de créature de votre cimetière dans votre main. \n  \nProgramme de la soirée: un tournoi commander à 5.- dans une ambiance détendue \nLots: \n\nDes lots spéciaux Final fantasy tel que des Pin’s Choboco !\n10 points de saison pour chaque participant\n\n\nBooster promo  pour top 50%\n\n\nBoosters promo Premium\, Points de saison\, Accessoires et autres lots pour le top\, suivant le nombre de participants.\n\nN’oubliez pas votre deck au format Commander!! \nLe tournois se fera en multi à 4 joueurs par match\, en 3 rondes. Les détails seront donnés sur place. \nAttention\, voilà la banlist en cours: https://magic.wizards.com/fr/banned-restricted-list \nLes proxys sont autorisés \nRègles spéciales:\n  \n \n                                                      \nCe tournois fait partie du classement de la saison! \nInscrivez vous ci-dessous dès aujourd’hui!
URL:https://2nains.ch/event/commander-multi-special-chocobo/
LOCATION:L’épée à 2 Nains\, rue des Corps-Saints 8\, Genève\, 1201
CATEGORIES:Magic
ATTACH;FMTTYPE=image/png:https://2nains.ch/wp-content/uploads/2022/10/logo-magic2_1886220380.png
ORGANIZER;CN="L'%C3%A9p%C3%A9e %C3%A0 2 Nains":MAILTO:info@2nains.ch
END:VEVENT
BEGIN:VEVENT
DTSTART;TZID=Europe/Paris:20250913T120000
DTEND;TZID=Europe/Paris:20250913T170000
DTSTAMP:20260423T020722
CREATED:20250820T222240Z
LAST-MODIFIED:20250820T222307Z
UID:128572-1757764800-1757782800@2nains.ch
SUMMARY:Duel Commander
DESCRIPTION:Participez au prochain tournois commander des 2 Nains! \nProgramme de la journée: un tournoi commander 1V1 \nLots: \n\n1 Booster + 10 points de saison pour chaque participant\n\n\nBooster promo  pour top 50%\n\n\nBoosters promo Premium\, Accessoires et autres lots pour le top\, suivant le nombre de participants.\n\nProxys autorisés \nLe tournois se fera en 1v1 (duel commander) à 20PV en 2 manches gagnantes avec une limite de temps de 60min par ronde. Pour plus de détails et pour la banlist\, merci de vous référer au site de référence: http://www.duelcommander.com/fr/ \nCe tournois fait partie du classement de la saison! \nInscrivez-vous ci-dessous dès aujourd’hui!
URL:https://2nains.ch/event/duel-commander-7/
LOCATION:L’épée à 2 Nains\, rue des Corps-Saints 8\, Genève\, 1201
CATEGORIES:Magic
ATTACH;FMTTYPE=image/png:https://2nains.ch/wp-content/uploads/2023/01/logo-magic2_1886220380-1.png
ORGANIZER;CN="L'%C3%A9p%C3%A9e %C3%A0 2 Nains":MAILTO:info@2nains.ch
END:VEVENT
BEGIN:VEVENT
DTSTART;TZID=Europe/Paris:20250919T183000
DTEND;TZID=Europe/Paris:20250919T235900
DTSTAMP:20260423T020722
CREATED:20250724T163653Z
LAST-MODIFIED:20250917T124838Z
UID:126380-1758306600-1758326340@2nains.ch
SUMMARY:Avant-première - Spider Man
DESCRIPTION:Viens participer à l’avant-première de l’édition « Spider Man » organisée à l’Épée à 2 Nains! \nMode de jeu: scellé (6 boosters fournis) – solo \nPrix d’inscription: 45.-  \nProgramme de la soirée:\n– un scellé dans une ambiance sympa\n– début de la construction du deck à 18:30\, essaie d’être sur place 15 minutes en avance\n– des boosters et d’autres prix distribués en pricepool
URL:https://2nains.ch/event/avant-premiere-spider-man/
LOCATION:L’épée à 2 Nains\, rue des Corps-Saints 8\, Genève\, 1201
CATEGORIES:Magic
ATTACH;FMTTYPE=image/png:https://2nains.ch/wp-content/uploads/2023/01/logo-magic2_1886220380-1.png
ORGANIZER;CN="L'%C3%A9p%C3%A9e %C3%A0 2 Nains":MAILTO:info@2nains.ch
END:VEVENT
BEGIN:VEVENT
DTSTART;TZID=Europe/Paris:20250920T140000
DTEND;TZID=Europe/Paris:20250920T170000
DTSTAMP:20260423T020722
CREATED:20250724T162851Z
LAST-MODIFIED:20250918T171929Z
UID:126376-1758376800-1758387600@2nains.ch
SUMMARY:Initiations Magic the Gathering
DESCRIPTION:Participez à ce moment de découverte du jeu Magic the Gathering! \nIl n’y a rien besoin de prendre avec vous\, ni de connaître déjà le jeu! \nVous savez jouer et avez des amis qui aimeraient commencer? Dites-leur de venir ce jeux incroyable! \nTout est évidemment gratuit et un paquet de bienvenue vous sera offert! \n  \nCet événement est réservé aux joueurs débutants! \n 
URL:https://2nains.ch/event/initiations-magic-the-gathering/
LOCATION:L’épée à 2 Nains\, rue des Corps-Saints 8\, Genève\, 1201
CATEGORIES:Magic
ATTACH;FMTTYPE=image/png:https://2nains.ch/wp-content/uploads/2022/10/logo-magic2_1886220380.png
ORGANIZER;CN="L'%C3%A9p%C3%A9e %C3%A0 2 Nains":MAILTO:info@2nains.ch
END:VEVENT
BEGIN:VEVENT
DTSTART;TZID=Europe/Paris:20250920T180000
DTEND;TZID=Europe/Paris:20250920T235900
DTSTAMP:20260423T020722
CREATED:20250724T163732Z
LAST-MODIFIED:20250917T124853Z
UID:126382-1758391200-1758412740@2nains.ch
SUMMARY:Avant-première - Spider-Man - Troll
DESCRIPTION:Viens participer à l’avant-première de l’édition « Spider-Man » organisée à l’Épée à 2 Nains! \nMode de jeu: scellé (6 boosters fournis) – troll à 2 têtes (2V2) \nPrix d’inscription: 45.- par joueur \nProgramme de la soirée:\n– un scellé dans une ambiance sympa\n– début de la construction du deck à 18:00\, essaie d’être sur place 15 minutes en avance\n– des boosters et d’autres prix distribués en pricepool\n  
URL:https://2nains.ch/event/avant-premiere-spider-man-troll/
LOCATION:L’épée à 2 Nains\, rue des Corps-Saints 8\, Genève\, 1201
CATEGORIES:Magic
ATTACH;FMTTYPE=image/png:https://2nains.ch/wp-content/uploads/2023/01/logo-magic2_1886220380-1.png
ORGANIZER;CN="L'%C3%A9p%C3%A9e %C3%A0 2 Nains":MAILTO:info@2nains.ch
END:VEVENT
BEGIN:VEVENT
DTSTART;TZID=Europe/Paris:20250926T100000
DTEND;TZID=Europe/Paris:20250926T190000
DTSTAMP:20260423T020722
CREATED:20250925T140619Z
LAST-MODIFIED:20250925T140839Z
UID:131470-1758880800-1758913200@2nains.ch
SUMMARY:Nouvelle Ligue - Spiderman
DESCRIPTION:C’est le début de la nouvelle ligue!!  \nC’est parti pour un mois de folie et de combats épiques\, et pour cette nouvelle ligue c’est avec l’extension « Spiderman » que ça va se passer. \nPour rappel\, ça se passe à n’importe quel moment à la boutique: venez et joignez-vous à nous! \nLots: \n\nPour le gagnant: une carte promo spéciale\n\n  \n\nDes points 2Nains: 1er = 75pts\, 2e = 50pts\, 3e = 25pts\, tous ceux qui ont 10 games = 10pts\n\n  \n\nPour tous ceux qui ont 10 games: 1 play booster + 1 booster promo + 1 carte promo\n\n+ d’autres lots suivant le nombre de participants!
URL:https://2nains.ch/event/nouvelle-ligue-spiderman/
LOCATION:L’épée à 2 Nains\, rue des Corps-Saints 8\, Genève\, 1201
CATEGORIES:Magic
ATTACH;FMTTYPE=image/png:https://2nains.ch/wp-content/uploads/2023/01/logo-magic2_1886220380-1.png
ORGANIZER;CN="L'%C3%A9p%C3%A9e %C3%A0 2 Nains":MAILTO:info@2nains.ch
END:VEVENT
BEGIN:VEVENT
DTSTART;TZID=Europe/Paris:20250927T130000
DTEND;TZID=Europe/Paris:20250927T130000
DTSTAMP:20260423T020722
CREATED:20250820T223840Z
LAST-MODIFIED:20250820T224406Z
UID:128578-1758978000-1758978000@2nains.ch
SUMMARY:Tournois Modern
DESCRIPTION:Participez au prochain tournois modern des 2 Nains! \nProgramme de la journée: un tournoi modern à 10.- par personne dans une ambiance détendue \nLots:\n\n1 Booster + 10 points de saison pour chaque participant\n\n\nBooster promo  pour top 50%\n\n\nBoosters promo Premium\, Points de saison\, Accessoires et autres lots pour le top\, suivant le nombre de participants.\n\nN’oubliez pas votre deck au format Modern!! \nLes proxys sont autorisés \nCe tournois fait partie du classement de la saison! \nInscrivez-vous ci-dessous dès aujourd’hui!
URL:https://2nains.ch/event/tournois-modern-7/
LOCATION:L’épée à 2 Nains\, rue des Corps-Saints 8\, Genève\, 1201
CATEGORIES:Magic
ATTACH;FMTTYPE=image/png:https://2nains.ch/wp-content/uploads/2023/01/logo-magic2_1886220380-1.png
ORGANIZER;CN="L'%C3%A9p%C3%A9e %C3%A0 2 Nains":MAILTO:info@2nains.ch
END:VEVENT
BEGIN:VEVENT
DTSTART;TZID=Europe/Paris:20250927T180000
DTEND;TZID=Europe/Paris:20250927T223000
DTSTAMP:20260423T020722
CREATED:20250901T123430Z
LAST-MODIFIED:20250901T134617Z
UID:129539-1758996000-1759012200@2nains.ch
SUMMARY:Soirée Commander Treachery
DESCRIPTION:Venez participer à la prochaine soirée commander Treachery organisée en coopération avec L’association Club Commander!\n\nUn format coopératif où la stratégie est primordiale pour gagner. C’est le format idéal pour passer une bonne soirée entre amis!\n\nEntrée libre. \nUne buvette et des snacks seront disponibles sur place.\n\nCet événement est proposé par l’association Club Commander!\nInscrivez vous ci-dessous dès aujourd’hui! \n \n 
URL:https://2nains.ch/event/soiree-commander-treachery/
LOCATION:L’épée à 2 Nains\, rue des Corps-Saints 8\, Genève\, 1201
CATEGORIES:Magic
ATTACH;FMTTYPE=image/png:https://2nains.ch/wp-content/uploads/2022/10/logo-magic2_1886220380.png
END:VEVENT
END:VCALENDAR