BEGIN:VCALENDAR
VERSION:2.0
PRODID:-//L&#039;épée à 2 Nains - ECPv6.15.20//NONSGML v1.0//EN
CALSCALE:GREGORIAN
METHOD:PUBLISH
X-WR-CALNAME:L&#039;épée à 2 Nains
X-ORIGINAL-URL:https://2nains.ch
X-WR-CALDESC:Évènements pour L&#039;épée à 2 Nains
REFRESH-INTERVAL;VALUE=DURATION:PT1H
X-Robots-Tag:noindex
X-PUBLISHED-TTL:PT1H
BEGIN:VTIMEZONE
TZID:Europe/Paris
BEGIN:DAYLIGHT
TZOFFSETFROM:+0100
TZOFFSETTO:+0200
TZNAME:CEST
DTSTART:20240331T010000
END:DAYLIGHT
BEGIN:STANDARD
TZOFFSETFROM:+0200
TZOFFSETTO:+0100
TZNAME:CET
DTSTART:20241027T010000
END:STANDARD
BEGIN:DAYLIGHT
TZOFFSETFROM:+0100
TZOFFSETTO:+0200
TZNAME:CEST
DTSTART:20250330T010000
END:DAYLIGHT
BEGIN:STANDARD
TZOFFSETFROM:+0200
TZOFFSETTO:+0100
TZNAME:CET
DTSTART:20251026T010000
END:STANDARD
BEGIN:DAYLIGHT
TZOFFSETFROM:+0100
TZOFFSETTO:+0200
TZNAME:CEST
DTSTART:20260329T010000
END:DAYLIGHT
BEGIN:STANDARD
TZOFFSETFROM:+0200
TZOFFSETTO:+0100
TZNAME:CET
DTSTART:20261025T010000
END:STANDARD
END:VTIMEZONE
BEGIN:VEVENT
DTSTART;TZID=Europe/Paris:20251002T190000
DTEND;TZID=Europe/Paris:20251002T233000
DTSTAMP:20260423T005637
CREATED:20250820T222120Z
LAST-MODIFIED:20251002T165541Z
UID:128570-1759431600-1759447800@2nains.ch
SUMMARY:Draft - Spiderman
DESCRIPTION:Viens participer à un draft dans une ambiance sympa! \nMode de jeu: draft (3 boosters fournis) – solo \nPrix d’inscription: 18.-  \nExtension: Spiderman \nDébut du draft à 19:00\, essaie d’être sur place 15 minutes en avance \nLes places sont limitées\, alors inscris-toi!
URL:https://2nains.ch/event/draft-spiderman/
LOCATION:L’épée à 2 Nains\, rue des Corps-Saints 8\, Genève\, 1201
CATEGORIES:Magic
ATTACH;FMTTYPE=image/png:https://2nains.ch/wp-content/uploads/2022/10/logo-magic2_1886220380.png
ORGANIZER;CN="L'%C3%A9p%C3%A9e %C3%A0 2 Nains":MAILTO:info@2nains.ch
END:VEVENT
BEGIN:VEVENT
DTSTART;TZID=Europe/Paris:20251011T120000
DTEND;TZID=Europe/Paris:20251011T170000
DTSTAMP:20260423T005637
CREATED:20250920T075814Z
LAST-MODIFIED:20251007T082556Z
UID:130987-1760184000-1760202000@2nains.ch
SUMMARY:Duel Commander
DESCRIPTION:Participez au prochain tournois commander des 2 Nains! \nProgramme de la journée: un tournoi commander 1V1 \nLots: \n\n1er: Fable of Mirror-breaker Promo\n\n                                 \n\n1 Booster + 10 points de saison pour chaque participant\n\n  \n\nBooster promo  pour top 50%\n\n  \n\nBoosters promo Premium\, Accessoires et autres lots pour le top\, suivant le nombre de participants.\n\nProxys autorisés \nLe tournois se fera en 1v1 (duel commander) à 20PV en 2 manches gagnantes avec une limite de temps de 60min par ronde. \nPour plus de détails et pour la banlist\, merci de vous référer au site de référence: http://www.duelcommander.com/fr/ \nCe tournois fait partie du classement de la saison! \nInscrivez-vous ci-dessous dès aujourd’hui!
URL:https://2nains.ch/event/duel-commander-8/
LOCATION:L’épée à 2 Nains\, rue des Corps-Saints 8\, Genève\, 1201
CATEGORIES:Magic
ATTACH;FMTTYPE=image/png:https://2nains.ch/wp-content/uploads/2023/01/logo-magic2_1886220380-1.png
ORGANIZER;CN="L'%C3%A9p%C3%A9e %C3%A0 2 Nains":MAILTO:info@2nains.ch
END:VEVENT
BEGIN:VEVENT
DTSTART;TZID=Europe/Paris:20251016T190000
DTEND;TZID=Europe/Paris:20251016T230000
DTSTAMP:20260423T005637
CREATED:20251014T081402Z
LAST-MODIFIED:20251014T082247Z
UID:132964-1760641200-1760655600@2nains.ch
SUMMARY:Duel Commander
DESCRIPTION:Participez au prochain tournois commander des 2 Nains! \nProgramme de la soirée : un tournoi commander 1V1 \nLots: \n\n1er: Wasteland version « Valley of Gorgoroth » version foil\n\n \n\n1 Booster + 10 points de saison pour chaque participant\n\n  \n\nBooster promo  pour top 50%\n\n  \n\nBoosters promo Premium\, Accessoires et autres lots pour le top\, suivant le nombre de participants.\n\nProxys autorisés \nLe tournois se fera en 1v1 (duel commander) à 20PV en 2 manches gagnantes avec une limite de temps de 60min par ronde. \nPour plus de détails et pour la banlist\, merci de vous référer au site de référence: http://www.duelcommander.com/fr/ \nCe tournois fait partie du classement de la saison! \nInscrivez-vous ci-dessous dès aujourd’hui!
URL:https://2nains.ch/event/duel-commander-9/
LOCATION:L’épée à 2 Nains\, rue des Corps-Saints 8\, Genève\, 1201
CATEGORIES:Magic
ATTACH;FMTTYPE=image/png:https://2nains.ch/wp-content/uploads/2023/01/logo-magic2_1886220380-1.png
ORGANIZER;CN="L'%C3%A9p%C3%A9e %C3%A0 2 Nains":MAILTO:info@2nains.ch
END:VEVENT
BEGIN:VEVENT
DTSTART;TZID=Europe/Paris:20251018T120000
DTEND;TZID=Europe/Paris:20251018T173000
DTSTAMP:20260423T005637
CREATED:20250920T080741Z
LAST-MODIFIED:20251018T080853Z
UID:130990-1760788800-1760808600@2nains.ch
SUMMARY:Tournoi Commander Multi CEDH
DESCRIPTION:Participez au prochain tournois commander des 2 Nains! \nTournoi Multi LIBRE. \nIl n’y a pas de règles spéciales pour cette fois-ci ! Prenez le deck de vos rêves avec vous ! \nLots: \n\n10 points de saison pour chaque participant\n\n  \n\nBooster promo  pour top 50%\n\n  \n\nBoosters promo Premium\, Points de saison\, Accessoires et autres lots pour le top\, suivant le nombre de participants.\n\nLe tournois se fera en multi à 4 joueurs par match\, en 3 rondes. Les détails seront données sur place. \nAttention\, voilà la banlist en cours: https://magic.wizards.com/fr/banned-restricted-list \nLes proxys sont autorisés \nCe tournois fait partie du classement de la saison! \nInscrivez vous ci-dessous dès aujourd’hui!
URL:https://2nains.ch/event/tournoi-commander-multi-cedh/
LOCATION:L’épée à 2 Nains\, rue des Corps-Saints 8\, Genève\, 1201
CATEGORIES:Magic
ATTACH;FMTTYPE=image/png:https://2nains.ch/wp-content/uploads/2022/10/logo-magic2_1886220380.png
ORGANIZER;CN="L'%C3%A9p%C3%A9e %C3%A0 2 Nains":MAILTO:info@2nains.ch
END:VEVENT
BEGIN:VEVENT
DTSTART;TZID=Europe/Paris:20251030T190000
DTEND;TZID=Europe/Paris:20251030T233000
DTSTAMP:20260423T005637
CREATED:20250920T083643Z
LAST-MODIFIED:20250923T082120Z
UID:130995-1761850800-1761867000@2nains.ch
SUMMARY:Commander Multi
DESCRIPTION:Participez au prochain tournois commander des 2 Nains! \nTournoi multi dans une ambiance détendue ! \nLots: \n\n10 points de saison pour chaque participant\n\n  \n\nBooster promo  pour top 50%\n\n  \n\nBoosters promo Premium\, Points de saison\, Accessoires et autres lots pour le top\, suivant le nombre de participants.\n\nN’oubliez pas votre deck au format Commander!! \nLe tournois se fera en multi à 4 joueurs par match\, en 3 rondes. Les détails seront données sur place. \nAttention\, voilà la banlist en cours: https://magic.wizards.com/fr/banned-restricted-list \nLes proxys sont autorisés \nRègles spéciales:\n\nNouveau comptage de point pour le classement ! \nTable de 4 : \n1 point pour la victoire \n1 point par élimination de joueur \n  \nTable de 3 : \n2 points pour la victoire \n1 point par élimination de joueur \nCe tournois fait partie du classement de la saison! \nInscrivez vous ci-dessous dès aujourd’hui!
URL:https://2nains.ch/event/commander-multi-2/
LOCATION:L’épée à 2 Nains\, rue des Corps-Saints 8\, Genève\, 1201
CATEGORIES:Magic
ATTACH;FMTTYPE=image/png:https://2nains.ch/wp-content/uploads/2022/10/logo-magic2_1886220380.png
ORGANIZER;CN="L'%C3%A9p%C3%A9e %C3%A0 2 Nains":MAILTO:info@2nains.ch
END:VEVENT
END:VCALENDAR