BEGIN:VCALENDAR
VERSION:2.0
PRODID:-//L&#039;épée à 2 Nains - ECPv6.15.20//NONSGML v1.0//EN
CALSCALE:GREGORIAN
METHOD:PUBLISH
X-WR-CALNAME:L&#039;épée à 2 Nains
X-ORIGINAL-URL:https://2nains.ch
X-WR-CALDESC:Évènements pour L&#039;épée à 2 Nains
REFRESH-INTERVAL;VALUE=DURATION:PT1H
X-Robots-Tag:noindex
X-PUBLISHED-TTL:PT1H
BEGIN:VTIMEZONE
TZID:Europe/Paris
BEGIN:DAYLIGHT
TZOFFSETFROM:+0100
TZOFFSETTO:+0200
TZNAME:CEST
DTSTART:20240331T010000
END:DAYLIGHT
BEGIN:STANDARD
TZOFFSETFROM:+0200
TZOFFSETTO:+0100
TZNAME:CET
DTSTART:20241027T010000
END:STANDARD
BEGIN:DAYLIGHT
TZOFFSETFROM:+0100
TZOFFSETTO:+0200
TZNAME:CEST
DTSTART:20250330T010000
END:DAYLIGHT
BEGIN:STANDARD
TZOFFSETFROM:+0200
TZOFFSETTO:+0100
TZNAME:CET
DTSTART:20251026T010000
END:STANDARD
BEGIN:DAYLIGHT
TZOFFSETFROM:+0100
TZOFFSETTO:+0200
TZNAME:CEST
DTSTART:20260329T010000
END:DAYLIGHT
BEGIN:STANDARD
TZOFFSETFROM:+0200
TZOFFSETTO:+0100
TZNAME:CET
DTSTART:20261025T010000
END:STANDARD
END:VTIMEZONE
BEGIN:VEVENT
DTSTART;TZID=Europe/Paris:20251211T190000
DTEND;TZID=Europe/Paris:20251211T233000
DTSTAMP:20260422T222510
CREATED:20251124T134553Z
LAST-MODIFIED:20251124T134632Z
UID:136885-1765479600-1765495800@2nains.ch
SUMMARY:Commander Multi
DESCRIPTION:Participez au prochain tournois commander des 2 Nains! \nTournoi multi dans une ambiance détendue ! \nLots: \n\n10 points de saison pour chaque participant\n\n  \n\nBooster promo  pour top 50%\n\n  \n\nBoosters promo Premium\, Points de saison\, Accessoires et autres lots pour le top\, suivant le nombre de participants.\n\nN’oubliez pas votre deck au format Commander!! \nLe tournois se fera en multi à 4 joueurs par match\, en 3 rondes. Les détails seront données sur place. \nAttention\, voilà la banlist en cours: https://magic.wizards.com/fr/banned-restricted-list \nLes proxys sont autorisés \nRègles spéciales:\n  \n\nNouveau comptage de point pour le classement ! \n  \n1 point par élimination de joueur \n3 points pour le 1er \n2 points pour le 2e \n1 point pour les 3e/4e \n\nCe tournois fait partie du classement de la saison! \nInscrivez vous ci-dessous dès aujourd’hui!
URL:https://2nains.ch/event/commander-multi-3/
LOCATION:L’épée à 2 Nains\, rue des Corps-Saints 8\, Genève\, 1201
CATEGORIES:Magic
ATTACH;FMTTYPE=image/png:https://2nains.ch/wp-content/uploads/2022/10/logo-magic2_1886220380.png
ORGANIZER;CN="L'%C3%A9p%C3%A9e %C3%A0 2 Nains":MAILTO:info@2nains.ch
END:VEVENT
BEGIN:VEVENT
DTSTART;TZID=Europe/Paris:20251213T120000
DTEND;TZID=Europe/Paris:20251213T170000
DTSTAMP:20260422T222510
CREATED:20251124T144228Z
LAST-MODIFIED:20251201T134416Z
UID:136895-1765627200-1765645200@2nains.ch
SUMMARY:Duel Commander
DESCRIPTION:Participez au prochain tournois commander des 2 Nains! \nProgramme de la soirée : un tournoi commander 1V1 \nLots: \n\n1 Booster + 10 points de saison pour chaque participant\n\n\nBooster promo  pour top 50%\nBoosters promo Premium\, Accessoires et autres lots pour le top\, suivant le nombre de participants.\n\nProxys autorisés \n  \nLe tournois se fera en 1v1 (duel commander) à 20PV en 2 manches gagnantes avec une limite de temps de 60min par ronde. \nPour plus de détails et pour la banlist\, merci de vous référer au site de référence: https://www.duelcommander.org/banlist/ \nCe tournois fait partie du classement de la saison! \nInscrivez-vous ci-dessous dès aujourd’hui!
URL:https://2nains.ch/event/duel-commander-11/
LOCATION:L’épée à 2 Nains\, rue des Corps-Saints 8\, Genève\, 1201
CATEGORIES:Magic
ATTACH;FMTTYPE=image/png:https://2nains.ch/wp-content/uploads/2023/01/logo-magic2_1886220380-1.png
ORGANIZER;CN="L'%C3%A9p%C3%A9e %C3%A0 2 Nains":MAILTO:info@2nains.ch
END:VEVENT
BEGIN:VEVENT
DTSTART;TZID=Europe/Paris:20251226T100000
DTEND;TZID=Europe/Paris:20251226T190000
DTSTAMP:20260422T222510
CREATED:20251201T155006Z
LAST-MODIFIED:20251201T155107Z
UID:137769-1766743200-1766775600@2nains.ch
SUMMARY:Nouvelle Ligue - Avatar
DESCRIPTION:C’est le début de la nouvelle ligue!!  \nC’est parti pour un mois de folie et de combats épiques\, et pour cette nouvelle ligue c’est avec l’extension « Avatar » que ça va se passer. \nPour rappel\, ça se passe à n’importe quel moment à la boutique: venez et joignez-vous à nous! \nLots: \n\nPour le gagnant: une carte promo spéciale\n\n  \n\nDes points 2Nains: 1er = 75pts\, 2e = 50pts\, 3e = 25pts\, tous ceux qui ont 10 games = 10pts\n\n  \n\nPour tous ceux qui ont 10 games: 1 play booster + 1 booster promo + 1 carte promo\n\n+ d’autres lots suivant le nombre de participants!
URL:https://2nains.ch/event/nouvelle-ligue-avatar-2/
LOCATION:L’épée à 2 Nains\, rue des Corps-Saints 8\, Genève\, 1201
CATEGORIES:Magic
ATTACH;FMTTYPE=image/png:https://2nains.ch/wp-content/uploads/2023/01/logo-magic2_1886220380-1.png
ORGANIZER;CN="L'%C3%A9p%C3%A9e %C3%A0 2 Nains":MAILTO:info@2nains.ch
END:VEVENT
BEGIN:VEVENT
DTSTART;TZID=Europe/Paris:20251227T120000
DTEND;TZID=Europe/Paris:20251227T163000
DTSTAMP:20260422T222510
CREATED:20251201T135237Z
LAST-MODIFIED:20251201T154736Z
UID:137740-1766836800-1766853000@2nains.ch
SUMMARY:Commander Multi
DESCRIPTION:Participez au prochain tournois commander des 2 Nains! \nTournoi multi dans une ambiance détendue ! \nLots: \n\n10 points de saison pour chaque participant\n\n\nBooster promo  pour top 50%\n\n\nBoosters promo Premium\, Points de saison\, Accessoires et autres lots pour le top\, suivant le nombre de participants.\n\nN’oubliez pas votre deck au format Commander!! \nLe tournois se fera en multi à 4 joueurs par match\, en 3 rondes. Les détails seront données sur place. \nAttention\, voilà la banlist en cours: https://magic.wizards.com/fr/banned-restricted-list \nLes proxys sont autorisés \nRègles spéciales:\n\nNouveau comptage de point pour le classement ! \n  \n1 point par élimination de joueur \n3 points pour le 1er \n2 points pour le 2e \n1 point pour les 3e/4e \nCe tournois fait partie du classement de la saison! \nInscrivez vous ci-dessous dès aujourd’hui!
URL:https://2nains.ch/event/commander-multi-4/
LOCATION:L’épée à 2 Nains\, rue des Corps-Saints 8\, Genève\, 1201
CATEGORIES:Magic
ATTACH;FMTTYPE=image/png:https://2nains.ch/wp-content/uploads/2022/10/logo-magic2_1886220380.png
ORGANIZER;CN="L'%C3%A9p%C3%A9e %C3%A0 2 Nains":MAILTO:info@2nains.ch
END:VEVENT
END:VCALENDAR