BEGIN:VCALENDAR
VERSION:2.0
PRODID:-//L&#039;épée à 2 Nains - ECPv6.15.20//NONSGML v1.0//EN
CALSCALE:GREGORIAN
METHOD:PUBLISH
X-ORIGINAL-URL:https://2nains.ch
X-WR-CALDESC:Évènements pour L&#039;épée à 2 Nains
REFRESH-INTERVAL;VALUE=DURATION:PT1H
X-Robots-Tag:noindex
X-PUBLISHED-TTL:PT1H
BEGIN:VTIMEZONE
TZID:Europe/Paris
BEGIN:DAYLIGHT
TZOFFSETFROM:+0100
TZOFFSETTO:+0200
TZNAME:CEST
DTSTART:20250330T010000
END:DAYLIGHT
BEGIN:STANDARD
TZOFFSETFROM:+0200
TZOFFSETTO:+0100
TZNAME:CET
DTSTART:20251026T010000
END:STANDARD
BEGIN:DAYLIGHT
TZOFFSETFROM:+0100
TZOFFSETTO:+0200
TZNAME:CEST
DTSTART:20260329T010000
END:DAYLIGHT
BEGIN:STANDARD
TZOFFSETFROM:+0200
TZOFFSETTO:+0100
TZNAME:CET
DTSTART:20261025T010000
END:STANDARD
BEGIN:DAYLIGHT
TZOFFSETFROM:+0100
TZOFFSETTO:+0200
TZNAME:CEST
DTSTART:20270328T010000
END:DAYLIGHT
BEGIN:STANDARD
TZOFFSETFROM:+0200
TZOFFSETTO:+0100
TZNAME:CET
DTSTART:20271031T010000
END:STANDARD
END:VTIMEZONE
BEGIN:VEVENT
DTSTART;TZID=Europe/Paris:20260108T190000
DTEND;TZID=Europe/Paris:20260108T233000
DTSTAMP:20260422T211551
CREATED:20251201T154521Z
LAST-MODIFIED:20251225T224505Z
UID:137765-1767898800-1767915000@2nains.ch
SUMMARY:Commander Multi
DESCRIPTION:  \nParticipez au prochain tournois commander des 2 Nains! \nTournoi multi dans une ambiance détendue ! \nLots: \n\n10 points de saison pour chaque participant\n\n\nBooster promo  pour top 50%\n\n\nBoosters promo Premium\, Points de saison\, Accessoires et autres lots pour le top\, suivant le nombre de participants.\n\n  \nN’oubliez pas votre deck au format Commander!! \nLe tournois se fera en multi à 4 joueurs par match\, en 3 rondes. Les détails seront données sur place. \nAttention\, voilà la banlist en cours: https://magic.wizards.com/fr/banned-restricted-list \nLes proxys sont autorisés \n  \nRègles spéciales:\n\nNouveau comptage de point pour le classement ! \n1 point par élimination de joueur \n3 points pour le 1er \n2 points pour le 2e \n1 point pour les 3e/4e \n  \nCe tournois fait partie du classement de la saison! \nInscrivez vous ci-dessous dès aujourd’hui!
URL:https://2nains.ch/event/commander-multi-5/
LOCATION:L’épée à 2 Nains\, rue des Corps-Saints 8\, Genève\, 1201
CATEGORIES:Magic
ATTACH;FMTTYPE=image/png:https://2nains.ch/wp-content/uploads/2022/10/logo-magic2_1886220380.png
ORGANIZER;CN="L'%C3%A9p%C3%A9e %C3%A0 2 Nains":MAILTO:info@2nains.ch
END:VEVENT
BEGIN:VEVENT
DTSTART;TZID=Europe/Paris:20260116T183000
DTEND;TZID=Europe/Paris:20260116T230000
DTSTAMP:20260422T211551
CREATED:20251215T231128Z
LAST-MODIFIED:20251215T231321Z
UID:139773-1768588200-1768604400@2nains.ch
SUMMARY:Avant-première MTG - Lorwyn Eclypsé
DESCRIPTION:Viens participer à l’avant-première de l’édition « Lorwyn Eclypsé » organisée à l’Épée à 2 Nains! \nMode de jeu: scellé (6 boosters fournis) – solo \nProgramme de la soirée: \n– un scellé dans une ambiance sympa \n– essaie d’être sur place 15 minutes en avance \n– des boosters et d’autres prix distribués en pricepool
URL:https://2nains.ch/event/avant-premiere-mtg-lorwyn-eclypse/
LOCATION:L’épée à 2 Nains\, rue des Corps-Saints 8\, Genève\, 1201
CATEGORIES:Magic
ATTACH;FMTTYPE=image/png:https://2nains.ch/wp-content/uploads/2023/01/logo-magic2_1886220380-1.png
ORGANIZER;CN="L'%C3%A9p%C3%A9e %C3%A0 2 Nains":MAILTO:info@2nains.ch
END:VEVENT
BEGIN:VEVENT
DTSTART;TZID=Europe/Paris:20260117T180000
DTEND;TZID=Europe/Paris:20260117T235900
DTSTAMP:20260422T211551
CREATED:20251215T231251Z
LAST-MODIFIED:20260116T131322Z
UID:139775-1768672800-1768694340@2nains.ch
SUMMARY:Avant-première MTG Troll - Lorwyn Eclypsé
DESCRIPTION:Viens participer à l’avant-première de l’édition « Lorwyn Eclypsé » organisée à l’Épée à 2 Nains! \nMode de jeu: scellé (6 boosters fournis) – Troll \nProgramme de la journée: \n– un troll à deux têtes dans une ambiance sympa \n– essaie d’être sur place 15 minutes en avance \n– des boosters et d’autres prix distribués en pricepool
URL:https://2nains.ch/event/avant-premiere-mtg-lorwyn-eclypse-2/
LOCATION:L’épée à 2 Nains\, rue des Corps-Saints 8\, Genève\, 1201
CATEGORIES:Magic
ATTACH;FMTTYPE=image/png:https://2nains.ch/wp-content/uploads/2023/01/logo-magic2_1886220380-1.png
ORGANIZER;CN="L'%C3%A9p%C3%A9e %C3%A0 2 Nains":MAILTO:info@2nains.ch
END:VEVENT
BEGIN:VEVENT
DTSTART;TZID=Europe/Paris:20260122T190000
DTEND;TZID=Europe/Paris:20260122T233000
DTSTAMP:20260422T211551
CREATED:20251224T102752Z
LAST-MODIFIED:20260117T213605Z
UID:141459-1769108400-1769124600@2nains.ch
SUMMARY:Draft - Lorwyn
DESCRIPTION:Viens participer à un draft dans une ambiance sympathique ! \nMode de jeu: draft (3 boosters fournis) – solo \n  \nExtension: Lorwyn Eclispé \nDébut du draft à 19:00\, essaie d’être sur place 15 minutes en avance \nLes places sont limitées\, alors inscris-toi!
URL:https://2nains.ch/event/draft-lorwyn/
LOCATION:L’épée à 2 Nains\, rue des Corps-Saints 8\, Genève\, 1201
CATEGORIES:Magic
ATTACH;FMTTYPE=image/png:https://2nains.ch/wp-content/uploads/2022/10/logo-magic2_1886220380.png
ORGANIZER;CN="L'%C3%A9p%C3%A9e %C3%A0 2 Nains":MAILTO:info@2nains.ch
END:VEVENT
BEGIN:VEVENT
DTSTART;TZID=Europe/Paris:20260124T180000
DTEND;TZID=Europe/Paris:20260124T223000
DTSTAMP:20260422T211551
CREATED:20260116T174136Z
LAST-MODIFIED:20260116T174257Z
UID:143926-1769277600-1769293800@2nains.ch
SUMMARY:Soirée Commander Treachery
DESCRIPTION:Venez participer à notre prochaine soirée Treachery en commander!\nUn format coopératif où la stratégie est primordiale pour gagner. C’est le format idéal pour passer une bonne soirée entre amis!\n\nEntrée libre. Une buvette et des snacks seront disponibles sur place.\névénement proposé par l’association Club Commander Genève!\n\n  \nEntrée libre. \nUne buvette et des snacks seront disponibles sur place.\n  \nCet événement est proposé par l’association Club Commander!\nInscrivez vous ci-dessous dès aujourd’hui!
URL:https://2nains.ch/event/soiree-commander-treachery-2/
LOCATION:L’épée à 2 Nains\, rue des Corps-Saints 8\, Genève\, 1201
CATEGORIES:Magic
ATTACH;FMTTYPE=image/png:https://2nains.ch/wp-content/uploads/2022/10/logo-magic2_1886220380.png
END:VEVENT
BEGIN:VEVENT
DTSTART;TZID=Europe/Paris:20260131T120000
DTEND;TZID=Europe/Paris:20260131T170000
DTSTAMP:20260422T211551
CREATED:20260102T173705Z
LAST-MODIFIED:20260129T210423Z
UID:142397-1769860800-1769878800@2nains.ch
SUMMARY:Duel Commander
DESCRIPTION:Participez au prochain tournois commander des 2 Nains! \nProgramme de la journée: un tournoi commander 1V1 \nLots: \n\n1 Booster + 10 points de saison pour chaque participant\n\n\nBooster promo  pour top 50%\n\n\nBoosters promo Premium\, Accessoires et autres lots pour le top\, suivant le nombre de participants.\n\nProxys autorisés \nLe tournois se fera en 1v1 (duel commander) à 20PV en 2 manches gagnantes avec une limite de temps de 60min par ronde. \nPour plus de détails et pour la banlist\, merci de vous référer au site de référence: https://www.duelcommander.org/banlist/ \nCe tournois fait partie du classement de la saison! \nInscrivez-vous ci-dessous dès aujourd’hui!
URL:https://2nains.ch/event/duel-commander-12/
LOCATION:L’épée à 2 Nains\, rue des Corps-Saints 8\, Genève\, 1201
CATEGORIES:Magic
ATTACH;FMTTYPE=image/webp:https://2nains.ch/wp-content/uploads/2026/01/Magic_The_Gathering_Logo.webp
ORGANIZER;CN="L'%C3%A9p%C3%A9e %C3%A0 2 Nains":MAILTO:info@2nains.ch
END:VEVENT
END:VCALENDAR