BEGIN:VCALENDAR
VERSION:2.0
PRODID:-//L&#039;épée à 2 Nains - ECPv6.15.20//NONSGML v1.0//EN
CALSCALE:GREGORIAN
METHOD:PUBLISH
X-WR-CALNAME:L&#039;épée à 2 Nains
X-ORIGINAL-URL:https://2nains.ch
X-WR-CALDESC:Évènements pour L&#039;épée à 2 Nains
REFRESH-INTERVAL;VALUE=DURATION:PT1H
X-Robots-Tag:noindex
X-PUBLISHED-TTL:PT1H
BEGIN:VTIMEZONE
TZID:Europe/Paris
BEGIN:DAYLIGHT
TZOFFSETFROM:+0100
TZOFFSETTO:+0200
TZNAME:CEST
DTSTART:20250330T010000
END:DAYLIGHT
BEGIN:STANDARD
TZOFFSETFROM:+0200
TZOFFSETTO:+0100
TZNAME:CET
DTSTART:20251026T010000
END:STANDARD
BEGIN:DAYLIGHT
TZOFFSETFROM:+0100
TZOFFSETTO:+0200
TZNAME:CEST
DTSTART:20260329T010000
END:DAYLIGHT
BEGIN:STANDARD
TZOFFSETFROM:+0200
TZOFFSETTO:+0100
TZNAME:CET
DTSTART:20261025T010000
END:STANDARD
BEGIN:DAYLIGHT
TZOFFSETFROM:+0100
TZOFFSETTO:+0200
TZNAME:CEST
DTSTART:20270328T010000
END:DAYLIGHT
BEGIN:STANDARD
TZOFFSETFROM:+0200
TZOFFSETTO:+0100
TZNAME:CET
DTSTART:20271031T010000
END:STANDARD
END:VTIMEZONE
BEGIN:VEVENT
DTSTART;TZID=Europe/Paris:20260301T120000
DTEND;TZID=Europe/Paris:20260301T163000
DTSTAMP:20260422T183646
CREATED:20260110T123101Z
LAST-MODIFIED:20260129T210347Z
UID:143253-1772366400-1772382600@2nains.ch
SUMMARY:Avant-première Troll à 2 Têtes MTG - Tortues Ninja Spécial Pizza
DESCRIPTION:Viens participer à l’avant-première de l’édition « Tortues Ninja Spécial Pizza! » organisée à l’Épée à 2 Nains! \n En effet\, l’évent sera un peu différent. Au programme\, l’avant-première en 2 contre 2 comme prévu AVEC EN PLUS des tranches pizza succulentes à se partager telles les tortues ninja après une mission réussie ! \nMode de jeu: scellé (6 boosters fournis) – Troll à 2 tête \nProgramme de la soirée: \n– un scellé dans une ambiance sympa \n– essaie d’être sur place 15 minutes en avance \n– des boosters et d’autres prix distribués en pricepool
URL:https://2nains.ch/event/avant-premiere-troll-a-deux-tetes-mtg-tortues-ninja-special-pizza/
LOCATION:L’épée à 2 Nains\, rue des Corps-Saints 8\, Genève\, 1201
CATEGORIES:Magic
ATTACH;FMTTYPE=image/webp:https://2nains.ch/wp-content/uploads/2026/01/Magic_The_Gathering_Logo.webp
ORGANIZER;CN="L'%C3%A9p%C3%A9e %C3%A0 2 Nains":MAILTO:info@2nains.ch
END:VEVENT
BEGIN:VEVENT
DTSTART;TZID=Europe/Paris:20260305T190000
DTEND;TZID=Europe/Paris:20260305T233000
DTSTAMP:20260422T183646
CREATED:20260117T213426Z
LAST-MODIFIED:20260129T210548Z
UID:144099-1772737200-1772753400@2nains.ch
SUMMARY:Draft - Tortues Ninja
DESCRIPTION:Viens participer à un draft dans une ambiance sympathique ! \nMode de jeu: draft (3 boosters fournis) – solo \n  \nExtension: Tortues Ninja \nDébut du draft à 19:00\, essaie d’être sur place 15 minutes en avance \nLes places sont limitées\, alors inscris-toi!
URL:https://2nains.ch/event/draft-tortues-ninja/
LOCATION:L’épée à 2 Nains\, rue des Corps-Saints 8\, Genève\, 1201
CATEGORIES:Magic
ATTACH;FMTTYPE=image/webp:https://2nains.ch/wp-content/uploads/2026/01/Magic_The_Gathering_Logo.webp
ORGANIZER;CN="L'%C3%A9p%C3%A9e %C3%A0 2 Nains":MAILTO:info@2nains.ch
END:VEVENT
BEGIN:VEVENT
DTSTART;TZID=Europe/Paris:20260306T100000
DTEND;TZID=Europe/Paris:20260306T190000
DTSTAMP:20260422T183646
CREATED:20260214T110013Z
LAST-MODIFIED:20260214T110335Z
UID:147024-1772791200-1772823600@2nains.ch
SUMMARY:Nouvelle Ligue - Tortues Ninja
DESCRIPTION:C’est le début de la nouvelle ligue!!  \n \nC’est parti pour un mois de folie et de combats épiques\, et pour cette nouvelle ligue c’est avec l’extension « Tortues Ninja » que ça va se passer. \nPour rappel\, ça se passe à n’importe quel moment à la boutique: venez et joignez-vous à nous! \nLots: \n\nPour le gagnant: une carte promo spéciale\n\n  \n\nDes points 2Nains: 1er = 75pts\, 2e = 50pts\, 3e = 25pts\, tous ceux qui ont 10 games = 10pts\n\n  \n\nPour tous ceux qui ont 10 games: 1 play booster + 1 booster promo + 1 carte promo\n\n+ d’autres lots suivant le nombre de participants!
URL:https://2nains.ch/event/nouvelle-ligue-tortues-ninja/
LOCATION:L’épée à 2 Nains\, rue des Corps-Saints 8\, Genève\, 1201
CATEGORIES:Magic
ATTACH;FMTTYPE=image/png:https://2nains.ch/wp-content/uploads/2023/01/logo-magic2_1886220380-1.png
ORGANIZER;CN="L'%C3%A9p%C3%A9e %C3%A0 2 Nains":MAILTO:info@2nains.ch
END:VEVENT
BEGIN:VEVENT
DTSTART;TZID=Europe/Paris:20260319T190000
DTEND;TZID=Europe/Paris:20260319T233000
DTSTAMP:20260422T183646
CREATED:20260214T111032Z
LAST-MODIFIED:20260214T111055Z
UID:147035-1773946800-1773963000@2nains.ch
SUMMARY:Commander Multi
DESCRIPTION:Participez au prochain tournois commander des 2 Nains! \nTournoi multi dans une ambiance détendue ! \nLots: \n\n10 points de saison pour chaque participant\n\n  \n\nBooster promo  pour top 50%\n\n  \n\nBoosters promo Premium\, Points de saison\, Accessoires et autres lots pour le top\, suivant le nombre de participants.\n\nN’oubliez pas votre deck au format Commander!! \nLe tournois se fera en multi à 4 joueurs par match\, en 3 rondes. Les détails seront données sur place. \nAttention\, voilà la banlist en cours: https://magic.wizards.com/fr/banned-restricted-list \nLes proxys sont autorisés \nRègles spéciales:\n  \n\nNouveau comptage de point pour le classement ! \n  \n1 point par élimination de joueur \n  \n3 points pour le 1er \n  \n2 points pour le 2e \n  \n1 point pour les 3e/4e \nCe tournois fait partie du classement de la saison! \nInscrivez vous ci-dessous dès aujourd’hui!
URL:https://2nains.ch/event/commander-multi-7/
LOCATION:L’épée à 2 Nains\, rue des Corps-Saints 8\, Genève\, 1201
CATEGORIES:Magic
ATTACH;FMTTYPE=image/webp:https://2nains.ch/wp-content/uploads/2026/01/Magic_The_Gathering_Logo.webp
ORGANIZER;CN="L'%C3%A9p%C3%A9e %C3%A0 2 Nains":MAILTO:info@2nains.ch
END:VEVENT
BEGIN:VEVENT
DTSTART;TZID=Europe/Paris:20260327T190000
DTEND;TZID=Europe/Paris:20260327T233000
DTSTAMP:20260422T183646
CREATED:20260217T211648Z
LAST-MODIFIED:20260219T083958Z
UID:147432-1774638000-1774654200@2nains.ch
SUMMARY:Pré-Modern
DESCRIPTION:Format: FNM Premodern (proxys autorisés si imprimés en couleur) \nLieu: A la boutique\nPrix: 15 frs par personne! \nCode Compagnon: J2YD84X
URL:https://2nains.ch/event/pre-modern/
LOCATION:L’épée à 2 Nains\, rue des Corps-Saints 8\, Genève\, 1201
CATEGORIES:Magic
ATTACH;FMTTYPE=image/webp:https://2nains.ch/wp-content/uploads/2026/01/geneva_school_of_magic.webp
END:VEVENT
BEGIN:VEVENT
DTSTART;TZID=Europe/Paris:20260328T120000
DTEND;TZID=Europe/Paris:20260328T170000
DTSTAMP:20260422T183646
CREATED:20260214T111510Z
LAST-MODIFIED:20260214T111550Z
UID:147039-1774699200-1774717200@2nains.ch
SUMMARY:Duel Commander
DESCRIPTION:Participez au prochain tournois commander des 2 Nains! \nProgramme de la journée: un tournoi commander 1V1 \nLots: \n\n1 Booster + 10 points de saison pour chaque participant\n\n  \n\nBooster promo  pour top 50%\n\n  \n\nBoosters promo Premium\, Accessoires et autres lots pour le top\, suivant le nombre de participants.\n\nProxys autorisés \nLe tournois se fera en 1v1 (duel commander) à 20PV en 2 manches gagnantes avec une limite de temps de 60min par ronde. \nPour plus de détails et pour la banlist\, merci de vous référer au site de référence: https://www.duelcommander.org/banlist/ \nCe tournois fait partie du classement de la saison! \nInscrivez-vous ci-dessous dès aujourd’hui!
URL:https://2nains.ch/event/duel-commander-13/
LOCATION:L’épée à 2 Nains\, rue des Corps-Saints 8\, Genève\, 1201
CATEGORIES:Magic
ATTACH;FMTTYPE=image/webp:https://2nains.ch/wp-content/uploads/2026/01/Magic_The_Gathering_Logo.webp
ORGANIZER;CN="L'%C3%A9p%C3%A9e %C3%A0 2 Nains":MAILTO:info@2nains.ch
END:VEVENT
END:VCALENDAR