BEGIN:VCALENDAR
VERSION:2.0
PRODID:-//L&#039;épée à 2 Nains - ECPv6.15.20//NONSGML v1.0//EN
CALSCALE:GREGORIAN
METHOD:PUBLISH
X-WR-CALNAME:L&#039;épée à 2 Nains
X-ORIGINAL-URL:https://2nains.ch
X-WR-CALDESC:Évènements pour L&#039;épée à 2 Nains
REFRESH-INTERVAL;VALUE=DURATION:PT1H
X-Robots-Tag:noindex
X-PUBLISHED-TTL:PT1H
BEGIN:VTIMEZONE
TZID:Europe/Paris
BEGIN:DAYLIGHT
TZOFFSETFROM:+0100
TZOFFSETTO:+0200
TZNAME:CEST
DTSTART:20250330T010000
END:DAYLIGHT
BEGIN:STANDARD
TZOFFSETFROM:+0200
TZOFFSETTO:+0100
TZNAME:CET
DTSTART:20251026T010000
END:STANDARD
BEGIN:DAYLIGHT
TZOFFSETFROM:+0100
TZOFFSETTO:+0200
TZNAME:CEST
DTSTART:20260329T010000
END:DAYLIGHT
BEGIN:STANDARD
TZOFFSETFROM:+0200
TZOFFSETTO:+0100
TZNAME:CET
DTSTART:20261025T010000
END:STANDARD
BEGIN:DAYLIGHT
TZOFFSETFROM:+0100
TZOFFSETTO:+0200
TZNAME:CEST
DTSTART:20270328T010000
END:DAYLIGHT
BEGIN:STANDARD
TZOFFSETFROM:+0200
TZOFFSETTO:+0100
TZNAME:CET
DTSTART:20271031T010000
END:STANDARD
END:VTIMEZONE
BEGIN:VEVENT
DTSTART;TZID=Europe/Paris:20260424T190000
DTEND;TZID=Europe/Paris:20260424T233000
DTSTAMP:20260422T171102
CREATED:20260316T103332Z
LAST-MODIFIED:20260316T103347Z
UID:149927-1777057200-1777073400@2nains.ch
SUMMARY:FNM Modern
DESCRIPTION:Format: FNM Modern (proxys autorisés si imprimés en couleur) \nLieu: A la boutique\nPrix: 15 frs par personne! \nCode Compagnon: J2YW485
URL:https://2nains.ch/event/fnm-modern/
LOCATION:L’épée à 2 Nains\, rue des Corps-Saints 8\, Genève\, 1201
CATEGORIES:Magic
ATTACH;FMTTYPE=image/webp:https://2nains.ch/wp-content/uploads/2026/01/geneva_school_of_magic.webp
END:VEVENT
BEGIN:VEVENT
DTSTART;TZID=Europe/Paris:20260430T183000
DTEND;TZID=Europe/Paris:20260430T233000
DTSTAMP:20260422T171102
CREATED:20260321T153758Z
LAST-MODIFIED:20260420T102308Z
UID:150578-1777573800-1777591800@2nains.ch
SUMMARY:Draft - Strixhaven
DESCRIPTION:                         \nViens participer à un draft dans une ambiance sympathique ! \nMode de jeu: draft (3 boosters fournis) – solo \nExtension: Strixhaven \nLes places sont limitées\, alors inscris-toi!
URL:https://2nains.ch/event/draft-strixhaven/
LOCATION:L’épée à 2 Nains\, rue des Corps-Saints 8\, Genève\, 1201
CATEGORIES:Magic
ATTACH;FMTTYPE=image/webp:https://2nains.ch/wp-content/uploads/2026/01/Magic_The_Gathering_Logo.webp
ORGANIZER;CN="L'%C3%A9p%C3%A9e %C3%A0 2 Nains":MAILTO:info@2nains.ch
END:VEVENT
END:VCALENDAR