BEGIN:VCALENDAR
VERSION:2.0
PRODID:-//L&#039;épée à 2 Nains - ECPv6.15.20//NONSGML v1.0//EN
CALSCALE:GREGORIAN
METHOD:PUBLISH
X-WR-CALNAME:L&#039;épée à 2 Nains
X-ORIGINAL-URL:https://2nains.ch
X-WR-CALDESC:Évènements pour L&#039;épée à 2 Nains
REFRESH-INTERVAL;VALUE=DURATION:PT1H
X-Robots-Tag:noindex
X-PUBLISHED-TTL:PT1H
BEGIN:VTIMEZONE
TZID:Europe/Paris
BEGIN:DAYLIGHT
TZOFFSETFROM:+0100
TZOFFSETTO:+0200
TZNAME:CEST
DTSTART:20240331T010000
END:DAYLIGHT
BEGIN:STANDARD
TZOFFSETFROM:+0200
TZOFFSETTO:+0100
TZNAME:CET
DTSTART:20241027T010000
END:STANDARD
BEGIN:DAYLIGHT
TZOFFSETFROM:+0100
TZOFFSETTO:+0200
TZNAME:CEST
DTSTART:20250330T010000
END:DAYLIGHT
BEGIN:STANDARD
TZOFFSETFROM:+0200
TZOFFSETTO:+0100
TZNAME:CET
DTSTART:20251026T010000
END:STANDARD
BEGIN:DAYLIGHT
TZOFFSETFROM:+0100
TZOFFSETTO:+0200
TZNAME:CEST
DTSTART:20260329T010000
END:DAYLIGHT
BEGIN:STANDARD
TZOFFSETFROM:+0200
TZOFFSETTO:+0100
TZNAME:CET
DTSTART:20261025T010000
END:STANDARD
END:VTIMEZONE
BEGIN:VEVENT
DTSTART;TZID=Europe/Paris:20251204T160000
DTEND;TZID=Europe/Paris:20251204T193000
DTSTAMP:20260422T183731
CREATED:20251117T102914Z
LAST-MODIFIED:20251125T150856Z
UID:136240-1764864000-1764876600@2nains.ch
SUMMARY:Riftbound - Ligue Nexus
DESCRIPTION:Ligue Nexus à L’épée à 2 Nains! \nVenez à partir de 16h00 quand vous voulez jusqu’à 19h00! Les rondes sont libres. \nDes boosters Nexus seront distribués en lots (répartition à confirmer) \nLien Carde.io : https://locator.riftbound.uvsgames.com/events/268953 \n  \nFonctionnement de la ligue\nLes parties se font en BO1.\nChaque victoire est comptabilisée et vous fait monter dans le classement.\nLa ligue Riftbound dure 4 semaines.\nLes parties se font tous les jeudis\nChaque joueur commence avec 3 boosters. Chaque semaine\, il doit ajouter 1 booster. Il doit construire son deck à partir de ces boosters.\nLes deck et cartes pour la ligue sont à laisser au magasin pendant toute la durée de l’évent. \nConstruction du deck :\nLe deck doit se construire de cette manière : \nLes 2 premières semaines :\n–    15 cartes jouables\n–    12 runes\n–    4 domaines (couleurs) \nLes 2 dernières semaines :\n–    25 cartes jouables\n–    12 runes\n–    3 domaines (couleurs) \nRègles complémentaires :\n–    Votre champion choisi n’a pas besoin d’être le même que votre légende (si vous en avez une)\n–    Les sort signatures n’ont besoin que d’être de la couleur d’un domaine choisi \n–    A partir de la 2e rune à recycler\, n’importe quelle couleur peut être utilisée\n–    2 battlefield au choix. Si vous n’en avez pas\, vous pouvez avoir un battlefield neutre qui ne fait pas d’effet.\n–    Au début de la partie\, le battlefield est tiré au hasard parmi les 2\n–    La limite de 3 cartes identiques n’est pas appliquée
URL:https://2nains.ch/event/riftbound-ligue-nexus-3/
LOCATION:L’épée à 2 Nains\, rue des Corps-Saints 8\, Genève\, 1201
CATEGORIES:Riftbound
ATTACH;FMTTYPE=image/webp:https://2nains.ch/wp-content/uploads/2025/09/riftbound-logo.webp
ORGANIZER;CN="L'%C3%A9p%C3%A9e %C3%A0 2 Nains":MAILTO:info@2nains.ch
END:VEVENT
BEGIN:VEVENT
DTSTART;TZID=Europe/Paris:20251206T110000
DTEND;TZID=Europe/Paris:20251206T235900
DTSTAMP:20260422T183731
CREATED:20251017T121904Z
LAST-MODIFIED:20251125T150916Z
UID:133366-1765018800-1765065540@2nains.ch
SUMMARY:Riftbound - Summoner Skirmish
DESCRIPTION:Summoner Skirmish à L’épée à 2 Nains! \nFormat : 1 contre 1 construit\, meilleur des 3 matchs \nStructure de l’événement : rondes suisses avec élimination finale pour 4 ou 8 joueurs selon le nombre de participants (« Top Cut »)Niveau de jeu organisé : compétitif \nLien Carde.io : https://locator.riftbound.uvsgames.com/events/229077 \n\nRécompenses : \n\n\nCarte promo de participation \n\n\nCarte promo du Top 8 \n\n\nTapis de jeu du champion \n\n\nDe plus\, le vainqueur de l’événement recevra un “bye” (exemption automatique de la première ronde) lors d’un Regional Qualifier.
URL:https://2nains.ch/event/riftbound-summoner-skirmish/
LOCATION:L’épée à 2 Nains\, rue des Corps-Saints 8\, Genève\, 1201
CATEGORIES:Riftbound
ATTACH;FMTTYPE=image/webp:https://2nains.ch/wp-content/uploads/2025/09/riftbound-logo.webp
ORGANIZER;CN="L'%C3%A9p%C3%A9e %C3%A0 2 Nains":MAILTO:info@2nains.ch
END:VEVENT
BEGIN:VEVENT
DTSTART;TZID=Europe/Paris:20251211T160000
DTEND;TZID=Europe/Paris:20251211T203000
DTSTAMP:20260422T183731
CREATED:20251117T103020Z
LAST-MODIFIED:20251125T151014Z
UID:136242-1765468800-1765485000@2nains.ch
SUMMARY:Riftbound - Ligue Nexus
DESCRIPTION:Ligue Nexus à L’épée à 2 Nains! \nVenez à partir de 16h00 quand vous voulez jusqu’à 19h00! Les rondes sont libres. \nDes boosters Nexus seront distribués en lots (répartition à confirmer) \nLien Carde.io : https://locator.riftbound.uvsgames.com/events/268955 \n  \nFonctionnement de la ligue\nLes parties se font en BO1.\nChaque victoire est comptabilisée et vous fait monter dans le classement.\nLa ligue Riftbound dure 4 semaines.\nLes parties se font tous les jeudis\nChaque joueur commence avec 3 boosters. Chaque semaine\, il doit ajouter 1 booster. Il doit construire son deck à partir de ces boosters.\nLes deck et cartes pour la ligue sont à laisser au magasin pendant toute la durée de l’évent. \nConstruction du deck :\nLe deck doit se construire de cette manière : \nLes 2 premières semaines :\n–    15 cartes jouables\n–    12 runes\n–    4 domaines (couleurs) \nLes 2 dernières semaines :\n–    25 cartes jouables\n–    12 runes\n–    3 domaines (couleurs) \nRègles complémentaires :\n–    Votre champion choisi n’a pas besoin d’être le même que votre légende (si vous en avez une)\n–    Les sort signatures n’ont besoin que d’être de la couleur d’un domaine choisi \n–    A partir de la 2e rune à recycler\, n’importe quelle couleur peut être utilisée\n–    2 battlefield au choix. Si vous n’en avez pas\, vous pouvez avoir un battlefield neutre qui ne fait pas d’effet.\n–    Au début de la partie\, le battlefield est tiré au hasard parmi les 2\n–    La limite de 3 cartes identiques n’est pas appliquée
URL:https://2nains.ch/event/riftbound-ligue-nexus-4/
LOCATION:L’épée à 2 Nains\, rue des Corps-Saints 8\, Genève\, 1201
CATEGORIES:Riftbound
ATTACH;FMTTYPE=image/webp:https://2nains.ch/wp-content/uploads/2025/09/riftbound-logo.webp
ORGANIZER;CN="L'%C3%A9p%C3%A9e %C3%A0 2 Nains":MAILTO:info@2nains.ch
END:VEVENT
BEGIN:VEVENT
DTSTART;TZID=Europe/Paris:20251231T120000
DTEND;TZID=Europe/Paris:20251231T160000
DTSTAMP:20260422T183731
CREATED:20251201T154252Z
LAST-MODIFIED:20251230T160151Z
UID:137762-1767182400-1767196800@2nains.ch
SUMMARY:Draft Riftbound
DESCRIPTION:Draft Riftbound à L’épée à 2 Nains! \nLien Carde.io : https://locator.riftbound.uvsgames.com/events/299561 \n  \nFormat : 1 contre 1 \, meilleur des 3 matchs\, 3 boosters par joueur. \nPour la construction du deck\, 3 couleurs sont autorisées et le champion n’est pas obligatoirement celui de la Légende. \nStructure de l’événement : Draft + rondes suisses \nNiveau de jeu organisé : Convivial \n  \nRécompenses : \n\nBooster promo et autre goodies\nAccessoires de jeu
URL:https://2nains.ch/event/draft-riftbound/
LOCATION:L’épée à 2 Nains\, rue des Corps-Saints 8\, Genève\, 1201
CATEGORIES:Riftbound
ATTACH;FMTTYPE=image/webp:https://2nains.ch/wp-content/uploads/2025/09/riftbound-logo.webp
ORGANIZER;CN="L'%C3%A9p%C3%A9e %C3%A0 2 Nains":MAILTO:info@2nains.ch
END:VEVENT
END:VCALENDAR