BEGIN:VCALENDAR
VERSION:2.0
PRODID:-//L&#039;épée à 2 Nains - ECPv6.15.20//NONSGML v1.0//EN
CALSCALE:GREGORIAN
METHOD:PUBLISH
X-ORIGINAL-URL:https://2nains.ch
X-WR-CALDESC:Évènements pour L&#039;épée à 2 Nains
REFRESH-INTERVAL;VALUE=DURATION:PT1H
X-Robots-Tag:noindex
X-PUBLISHED-TTL:PT1H
BEGIN:VTIMEZONE
TZID:Europe/Paris
BEGIN:DAYLIGHT
TZOFFSETFROM:+0100
TZOFFSETTO:+0200
TZNAME:CEST
DTSTART:20250330T010000
END:DAYLIGHT
BEGIN:STANDARD
TZOFFSETFROM:+0200
TZOFFSETTO:+0100
TZNAME:CET
DTSTART:20251026T010000
END:STANDARD
BEGIN:DAYLIGHT
TZOFFSETFROM:+0100
TZOFFSETTO:+0200
TZNAME:CEST
DTSTART:20260329T010000
END:DAYLIGHT
BEGIN:STANDARD
TZOFFSETFROM:+0200
TZOFFSETTO:+0100
TZNAME:CET
DTSTART:20261025T010000
END:STANDARD
BEGIN:DAYLIGHT
TZOFFSETFROM:+0100
TZOFFSETTO:+0200
TZNAME:CEST
DTSTART:20270328T010000
END:DAYLIGHT
BEGIN:STANDARD
TZOFFSETFROM:+0200
TZOFFSETTO:+0100
TZNAME:CET
DTSTART:20271031T010000
END:STANDARD
END:VTIMEZONE
BEGIN:VEVENT
DTSTART;TZID=Europe/Paris:20260305T160000
DTEND;TZID=Europe/Paris:20260305T193000
DTSTAMP:20260422T143348
CREATED:20260212T154944Z
LAST-MODIFIED:20260212T160233Z
UID:146793-1772726400-1772739000@2nains.ch
SUMMARY:Riftbound - Ligue Nexus
DESCRIPTION:Ligue Nexus à L’épée à 2 Nains! \nVenez à partir de 16h00 ! Les rondes sont libres. \nDes boosters Nexus seront distribués en lots (répartition à confirmer) \nLien Carde.io : https://locator.riftbound.uvsgames.com/events/391249 \nFonctionnement de la ligue\n  \nLes parties se font en BO1.\nChaque victoire est comptabilisée et vous fait monter dans le classement.\nLa ligue Riftbound dure 4 semaines.\nLes parties se font tous les jeudis\nChaque joueur commence avec 4 boosters. Chaque semaine\, il doit ajouter 1 booster. Il doit construire son deck à partir de ces boosters.\nLes deck et cartes pour la ligue sont à laisser au magasin pendant toute la durée de l’évent. \n  \n\n  \nConstruction du deck :\n  \nLe deck doit se construire de cette manière : \n  \nSemaines 1 & 2 :\n–    20 cartes jouables\n–    12 runes\n–    4 domaines (couleurs) \n  \nLes 3 & 4 :\n–    25 cartes jouables\n–    12 runes\n–    3 domaines (couleurs) \n  \nRègles complémentaires :\n–    Votre champion choisi n’a pas besoin d’être le même que votre légende (si vous en avez une)\n–    Les sort signatures n’ont besoin que d’être de la couleur d’un domaine choisi \n  \n–    A partir de la 2e rune à recycler\, n’importe quelle couleur peut être utilisée\n–    2 battlefield au choix. Si vous n’en avez pas\, vous pouvez avoir un battlefield neutre qui ne fait pas d’effet.\n–    Au début de la partie\, le battlefield est tiré au hasard parmi les 2\n–    La limite de 3 cartes identiques n’est pas appliquée
URL:https://2nains.ch/event/riftbound-ligue-nexus-11/
LOCATION:L’épée à 2 Nains\, rue des Corps-Saints 8\, Genève\, 1201
CATEGORIES:Riftbound
ATTACH;FMTTYPE=image/webp:https://2nains.ch/wp-content/uploads/2025/09/riftbound-logo.webp
ORGANIZER;CN="L'%C3%A9p%C3%A9e %C3%A0 2 Nains":MAILTO:info@2nains.ch
END:VEVENT
BEGIN:VEVENT
DTSTART;TZID=Europe/Paris:20260307T100000
DTEND;TZID=Europe/Paris:20260307T180000
DTSTAMP:20260422T143348
CREATED:20260114T100801Z
LAST-MODIFIED:20260129T185354Z
UID:143592-1772877600-1772906400@2nains.ch
SUMMARY:Riftbound - Summoner Skirmish
DESCRIPTION:Summoner Skirmish à L’épée à 2 Nains! \n  \nFormat : 1 contre 1 construit\, meilleur des 3 matchs \n  \nStructure de l’événement : rondes suisses avec élimination finale pour 4 ou 8 (si > 16 joueurs) joueurs  (« Top Cut »)Niveau de jeu organisé : compétitif \n  \nLien Carde.io : https://locator.riftbound.uvsgames.com/events/229105 \n  \nRécompenses : \n\n\nCarte promo de participation \n\n\n\n\nCarte promo du Top 8 \n\n\n\n\nTapis de jeu du champion \n\nAutres lots suivant le nombre de participants\n\n  \nDe plus\, le vainqueur de l’événement recevra un “bye” (exemption automatique de la première ronde) lors d’un Regional Qualifier. \n  \nRésultat des matchs en cas de fin du temps\, après les 5 tours additionnels : \n\nRondes Suisse => le joueur ayant le plus de points gagne\n\n\nTop: 2e match non terminé => le joueur ayant gagné le 1er match gagne\n\n\nTop: 3e match non terminé => le joueur ayant le plus de points gagne\n\n\nTop: le 2e match se termine pendant les tours additionnels => 15 min d’extra time pour le 3e match.
URL:https://2nains.ch/event/riftbound-summoner-skirmish-3/
LOCATION:L’épée à 2 Nains\, rue des Corps-Saints 8\, Genève\, 1201
CATEGORIES:Riftbound
ATTACH;FMTTYPE=image/webp:https://2nains.ch/wp-content/uploads/2025/12/Riftbound_logo.webp
ORGANIZER;CN="L'%C3%A9p%C3%A9e %C3%A0 2 Nains":MAILTO:info@2nains.ch
END:VEVENT
BEGIN:VEVENT
DTSTART;TZID=Europe/Paris:20260312T160000
DTEND;TZID=Europe/Paris:20260312T193000
DTSTAMP:20260422T143348
CREATED:20260212T160353Z
LAST-MODIFIED:20260212T160551Z
UID:146806-1773331200-1773343800@2nains.ch
SUMMARY:Riftbound - Ligue Nexus
DESCRIPTION:Ligue Nexus à L’épée à 2 Nains! \nVenez à partir de 16h00 ! Les rondes sont libres. \nDes boosters Nexus seront distribués en lots (répartition à confirmer) \nLien Carde.io : https://locator.riftbound.uvsgames.com/events/391250 \nFonctionnement de la ligue\n  \nLes parties se font en BO1.\nChaque victoire est comptabilisée et vous fait monter dans le classement.\nLa ligue Riftbound dure 4 semaines.\nLes parties se font tous les jeudis\nChaque joueur commence avec 4 boosters. Chaque semaine\, il doit ajouter 1 booster. Il doit construire son deck à partir de ces boosters.\nLes deck et cartes pour la ligue sont à laisser au magasin pendant toute la durée de l’évent. \n  \n\n  \nConstruction du deck :\n  \nLe deck doit se construire de cette manière : \n  \nSemaines 1 & 2 :\n–    20 cartes jouables\n–    12 runes\n–    4 domaines (couleurs) \n  \nLes 3 & 4 :\n–    25 cartes jouables\n–    12 runes\n–    3 domaines (couleurs) \n  \nRègles complémentaires :\n–    Votre champion choisi n’a pas besoin d’être le même que votre légende (si vous en avez une)\n–    Les sort signatures n’ont besoin que d’être de la couleur d’un domaine choisi \n  \n–    A partir de la 2e rune à recycler\, n’importe quelle couleur peut être utilisée\n–    2 battlefield au choix. Si vous n’en avez pas\, vous pouvez avoir un battlefield neutre qui ne fait pas d’effet.\n–    Au début de la partie\, le battlefield est tiré au hasard parmi les 2\n–    La limite de 3 cartes identiques n’est pas appliquée
URL:https://2nains.ch/event/riftbound-ligue-nexus-12/
LOCATION:L’épée à 2 Nains\, rue des Corps-Saints 8\, Genève\, 1201
CATEGORIES:Riftbound
ATTACH;FMTTYPE=image/webp:https://2nains.ch/wp-content/uploads/2025/09/riftbound-logo.webp
ORGANIZER;CN="L'%C3%A9p%C3%A9e %C3%A0 2 Nains":MAILTO:info@2nains.ch
END:VEVENT
BEGIN:VEVENT
DTSTART;TZID=Europe/Paris:20260319T160000
DTEND;TZID=Europe/Paris:20260319T193000
DTSTAMP:20260422T143348
CREATED:20260228T185726Z
LAST-MODIFIED:20260228T185936Z
UID:148538-1773936000-1773948600@2nains.ch
SUMMARY:Riftbound - Ligue Nexus
DESCRIPTION:Ligue Nexus à L’épée à 2 Nains! \nVenez à partir de 16h00 ! Les rondes sont libres. \nDes boosters Nexus seront distribués en lots (répartition à confirmer) \nLien Carde.io : https://locator.riftbound.uvsgames.com/events/424352 \nFonctionnement de la ligue\nLes parties se font en BO1.\nChaque victoire est comptabilisée et vous fait monter dans le classement.\nLa ligue Riftbound dure 4 semaines.\nLes parties se font tous les jeudis\nChaque joueur commence avec 4 boosters. Chaque semaine\, il doit ajouter 1 booster. Il doit construire son deck à partir de ces boosters.\nLes deck et cartes pour la ligue sont à laisser au magasin pendant toute la durée de l’évent. \n  \nConstruction du deck :\nLe deck doit se construire de cette manière : \nSemaines 1 & 2 :\n–    20 cartes jouables\n–    12 runes\n–    4 domaines (couleurs) \n  \nLes 3 & 4 :\n–    25 cartes jouables\n–    12 runes\n–    3 domaines (couleurs) \n  \nRègles complémentaires :\n–    Votre champion choisi n’a pas besoin d’être le même que votre légende (si vous en avez une)\n–    Les sort signatures n’ont besoin que d’être de la couleur d’un domaine choisi \n–    A partir de la 2e rune à recycler\, n’importe quelle couleur peut être utilisée\n–    2 battlefield au choix. Si vous n’en avez pas\, vous pouvez avoir un battlefield neutre qui ne fait pas d’effet.\n–    Au début de la partie\, le battlefield est tiré au hasard parmi les 2\n–    La limite de 3 cartes identiques n’est pas appliquée
URL:https://2nains.ch/event/riftbound-ligue-nexus-13/
LOCATION:L’épée à 2 Nains\, rue des Corps-Saints 8\, Genève\, 1201
CATEGORIES:Riftbound
ATTACH;FMTTYPE=image/webp:https://2nains.ch/wp-content/uploads/2025/09/riftbound-logo.webp
ORGANIZER;CN="L'%C3%A9p%C3%A9e %C3%A0 2 Nains":MAILTO:info@2nains.ch
END:VEVENT
BEGIN:VEVENT
DTSTART;TZID=Europe/Paris:20260326T160000
DTEND;TZID=Europe/Paris:20260326T193000
DTSTAMP:20260422T143348
CREATED:20260228T190031Z
LAST-MODIFIED:20260228T190159Z
UID:148541-1774540800-1774553400@2nains.ch
SUMMARY:Riftbound - Ligue Nexus
DESCRIPTION:Ligue Nexus à L’épée à 2 Nains! \nVenez à partir de 16h00 ! Les rondes sont libres. \nDes boosters Nexus seront distribués en lots (répartition à confirmer) \nLien Carde.io : https://locator.riftbound.uvsgames.com/events/424359 \n\nFonctionnement de la ligue\nLes parties se font en BO1.\nChaque victoire est comptabilisée et vous fait monter dans le classement.\nLa ligue Riftbound dure 4 semaines.\nLes parties se font tous les jeudis\nChaque joueur commence avec 4 boosters. Chaque semaine\, il doit ajouter 1 booster. Il doit construire son deck à partir de ces boosters.\nLes deck et cartes pour la ligue sont à laisser au magasin pendant toute la durée de l’évent. \n  \nConstruction du deck :\nLe deck doit se construire de cette manière : \nSemaines 1 & 2 :\n–    20 cartes jouables\n–    12 runes\n–    4 domaines (couleurs) \n  \nLes 3 & 4 :\n–    25 cartes jouables\n–    12 runes\n–    3 domaines (couleurs) \n  \nRègles complémentaires :\n–    Votre champion choisi n’a pas besoin d’être le même que votre légende (si vous en avez une)\n–    Les sort signatures n’ont besoin que d’être de la couleur d’un domaine choisi \n–    A partir de la 2e rune à recycler\, n’importe quelle couleur peut être utilisée\n–    2 battlefield au choix. Si vous n’en avez pas\, vous pouvez avoir un battlefield neutre qui ne fait pas d’effet.\n–    Au début de la partie\, le battlefield est tiré au hasard parmi les 2\n–    La limite de 3 cartes identiques n’est pas appliquée
URL:https://2nains.ch/event/riftbound-ligue-nexus-14/
LOCATION:L’épée à 2 Nains\, rue des Corps-Saints 8\, Genève\, 1201
CATEGORIES:Riftbound
ATTACH;FMTTYPE=image/webp:https://2nains.ch/wp-content/uploads/2025/09/riftbound-logo.webp
ORGANIZER;CN="L'%C3%A9p%C3%A9e %C3%A0 2 Nains":MAILTO:info@2nains.ch
END:VEVENT
END:VCALENDAR