BEGIN:VCALENDAR
VERSION:2.0
PRODID:-//L&#039;épée à 2 Nains - ECPv6.15.20//NONSGML v1.0//EN
CALSCALE:GREGORIAN
METHOD:PUBLISH
X-WR-CALNAME:L&#039;épée à 2 Nains
X-ORIGINAL-URL:https://2nains.ch
X-WR-CALDESC:Évènements pour L&#039;épée à 2 Nains
REFRESH-INTERVAL;VALUE=DURATION:PT1H
X-Robots-Tag:noindex
X-PUBLISHED-TTL:PT1H
BEGIN:VTIMEZONE
TZID:Europe/Paris
BEGIN:DAYLIGHT
TZOFFSETFROM:+0100
TZOFFSETTO:+0200
TZNAME:CEST
DTSTART:20250330T010000
END:DAYLIGHT
BEGIN:STANDARD
TZOFFSETFROM:+0200
TZOFFSETTO:+0100
TZNAME:CET
DTSTART:20251026T010000
END:STANDARD
BEGIN:DAYLIGHT
TZOFFSETFROM:+0100
TZOFFSETTO:+0200
TZNAME:CEST
DTSTART:20260329T010000
END:DAYLIGHT
BEGIN:STANDARD
TZOFFSETFROM:+0200
TZOFFSETTO:+0100
TZNAME:CET
DTSTART:20261025T010000
END:STANDARD
BEGIN:DAYLIGHT
TZOFFSETFROM:+0100
TZOFFSETTO:+0200
TZNAME:CEST
DTSTART:20270328T010000
END:DAYLIGHT
BEGIN:STANDARD
TZOFFSETFROM:+0200
TZOFFSETTO:+0100
TZNAME:CET
DTSTART:20271031T010000
END:STANDARD
END:VTIMEZONE
BEGIN:VEVENT
DTSTART;TZID=Europe/Paris:20260718T100000
DTEND;TZID=Europe/Paris:20260718T180000
DTSTAMP:20260422T171239
CREATED:20260126T143210Z
LAST-MODIFIED:20260129T190046Z
UID:144932-1784368800-1784397600@2nains.ch
SUMMARY:Riftbound - Summoner Skirmish
DESCRIPTION:Summoner Skirmish à L’épée à 2 Nains! \n  \nFormat : 1 contre 1 construit\, meilleur des 3 matchs \n  \nStructure de l’événement : rondes suisses avec élimination finale pour 4 ou 8 (si > 16 joueurs) joueurs  (« Top Cut »)Niveau de jeu organisé : compétitif \n  \nLien Carde.io : https://locator.riftbound.uvsgames.com/events/356951 \n  \nRécompenses : \n\n\nCarte promo de participation + booster pour chaque participant \n\n\n\n\nCarte promo du Top 8 \n\n\n\n\nTapis de jeu du champion \n\n\n\nAutres lots suivant le nombre de participants\n\n  \nDe plus\, le vainqueur de l’événement recevra un “bye” (exemption automatique de la première ronde) lors d’un Regional Qualifier. \n  \nRésultat des matchs en cas de fin du temps\, après les 5 tours additionnels : \n\nRondes Suisse => le joueur ayant le plus de points gagne\n\n\nTop: 2e match non terminé => le joueur ayant gagné le 1er match gagne\n\n\nTop: 3e match non terminé => le joueur ayant le plus de points gagne\n\n\nTop: le 2e match se termine pendant les tours additionnels => 15 min d’extra time pour le 3e match.
URL:https://2nains.ch/event/riftbound-summoner-skirmish-6/
LOCATION:L’épée à 2 Nains\, rue des Corps-Saints 8\, Genève\, 1201
CATEGORIES:Riftbound
ATTACH;FMTTYPE=image/webp:https://2nains.ch/wp-content/uploads/2025/12/Riftbound_logo.webp
ORGANIZER;CN="L'%C3%A9p%C3%A9e %C3%A0 2 Nains":MAILTO:info@2nains.ch
END:VEVENT
BEGIN:VEVENT
DTSTART;TZID=Europe/Paris:20260724T183000
DTEND;TZID=Europe/Paris:20260724T230000
DTSTAMP:20260422T171239
CREATED:20260417T114952Z
LAST-MODIFIED:20260417T120338Z
UID:153147-1784917800-1784934000@2nains.ch
SUMMARY:Avant-première Riftbound - Vendetta
DESCRIPTION:Avant-Première sur le nouveau Set de Riftbound: Vendetta \n  \nFormat : \n  \n\nPack d’AP conetnant de 6 boosters\n\n  \n\nConstruction des decks\n\n  \n\n1 contre 1 en 1 manche gagnante ( bo1)\n\n  \nStructure de l’événement : rondes suisses \n  \nNiveau de jeu organisé : convivial \n  \nLien Carde.io :  https://locator.riftbound.uvsgames.com/events/507997
URL:https://2nains.ch/event/avant-premiere-riftbound-vendetta/
LOCATION:L’épée à 2 Nains\, rue des Corps-Saints 8\, Genève\, 1201
CATEGORIES:Riftbound
ATTACH;FMTTYPE=image/webp:https://2nains.ch/wp-content/uploads/2025/12/Riftbound_logo.webp
ORGANIZER;CN="L'%C3%A9p%C3%A9e %C3%A0 2 Nains":MAILTO:info@2nains.ch
END:VEVENT
BEGIN:VEVENT
DTSTART;TZID=Europe/Paris:20260725T110000
DTEND;TZID=Europe/Paris:20260725T130000
DTSTAMP:20260422T171239
CREATED:20260417T114120Z
LAST-MODIFIED:20260417T114158Z
UID:153142-1784977200-1784984400@2nains.ch
SUMMARY:Initiation - Riftbound
DESCRIPTION:Viens découvrir le nouveau jeu de cartes à collectionner « Riftbound »! \nPlongez dans l’univers de Riftbound\, le tout nouveau jeu de cartes à collectionner inspiré de League of Legends. Constituez votre deck ultime\, affrontez vos rivaux et explorez des héros et lieux emblématiques. Disponible très bientôt dans ta boutique préférée\, l’aventure ne fait que commencer. Suivez-nous dès maintenant sur nos réseaux pour ne rien manquer! \nLes decks sont à disposition à la boutique si vous désirez essayer en journée!
URL:https://2nains.ch/event/initiation-riftbound-10/
LOCATION:L’épée à 2 Nains\, rue des Corps-Saints 8\, Genève\, 1201
CATEGORIES:Riftbound
ATTACH;FMTTYPE=image/webp:https://2nains.ch/wp-content/uploads/2025/12/Riftbound_logo.webp
ORGANIZER;CN="L'%C3%A9p%C3%A9e %C3%A0 2 Nains":MAILTO:info@2nains.ch
END:VEVENT
BEGIN:VEVENT
DTSTART;TZID=Europe/Paris:20260725T143000
DTEND;TZID=Europe/Paris:20260725T180000
DTSTAMP:20260422T171239
CREATED:20260417T115305Z
LAST-MODIFIED:20260417T120311Z
UID:153150-1784989800-1785002400@2nains.ch
SUMMARY:Avant-première Riftbound - Vendetta
DESCRIPTION:Avant-Première sur le nouveau Set de Riftbound: Vendetta \n  \nFormat : \n  \n\nPack d’AP conetnant de 6 boosters\n\n  \n\nConstruction des decks\n\n  \n\n1 contre 1 en 1 manche gagnante ( bo1)\n\n  \nStructure de l’événement : rondes suisses \n  \nNiveau de jeu organisé : convivial \n  \nLien Carde.io : https://locator.riftbound.uvsgames.com/events/508001
URL:https://2nains.ch/event/avant-premiere-riftbound-vendetta-2/
LOCATION:L’épée à 2 Nains\, rue des Corps-Saints 8\, Genève\, 1201
CATEGORIES:Riftbound
ATTACH;FMTTYPE=image/webp:https://2nains.ch/wp-content/uploads/2025/12/Riftbound_logo.webp
ORGANIZER;CN="L'%C3%A9p%C3%A9e %C3%A0 2 Nains":MAILTO:info@2nains.ch
END:VEVENT
END:VCALENDAR